BEGIN:VCALENDAR
VERSION:2.0
PRODID:-//ChamberMaster//Event Calendar 2.0//EN
METHOD:PUBLISH
X-PUBLISHED-TTL:P3D
REFRESH-INTERVAL:P3D
CALSCALE:GREGORIAN
BEGIN:VEVENT
DTSTART:20111026T160000Z
DTEND:20111026T180000Z
X-MICROSOFT-CDO-ALLDAYEVENT:FALSE
SUMMARY:Greater Shelby Chamber ~ Annual Safety Awards 2011
DESCRIPTION:Join us on October 31st for our annual Safety Awards luncheon as we honor public safety officials from throughout Shelby County. Each year we are privileged to recognize individuals who have demonstrated outstanding excellence in public safety. This is a time when we can personally give thanks to the fire\, police and sheriff personnel\, and honor them for the outstanding service and sacrifices they make each day in keeping our respective communities a safe place to live\, work\, and play.\n\n	\n\n	Thank you to our sponsors Alabama Telco Credit Union and FASTSIGNS.\n\n	\n\n	Be sure to join us during networking for our Showcase City Features Birmingham\, Hoover\, and Westover businesses beginning at 11 a.m. until noon.  Seated program begins at noon and concludes at 1 p.m.\n\n	 \n\n	Where:  Pelham Civic Complex\, 500 Amphitheater Drive\, Pelham.\n\n	 \n\n	Admission:  $17 members of the Greater Shelby Chamber\, $25 non-members.\n\n	 \n\n	Register online by clicking above\, call the RSVP Line 663-8923 or the Chamber office 663-4542.
X-ALT-DESC;FMTTYPE=text/html:<div>\n	Join us on October 31st for our annual Safety Awards luncheon as we honor public safety officials from throughout Shelby County. Each year we are privileged to recognize individuals who have demonstrated outstanding excellence in public safety. This is a time when we can personally give thanks to the fire\, police and sheriff personnel\, and honor them for the outstanding service and sacrifices they make each day in keeping our respective communities a safe place to live\, work\, and play.<br />\n	<br />\n	Thank you to our sponsors <a href="https://www.alatelco.org/">Alabama Telco Credit Union</a> and <a href="http://www.fastsigns.com/198-birmingham-al">FASTSIGNS</a>.</div>\n<div>\n	<br />\n	Be sure to join us during networking for our Showcase City Features Birmingham\, Hoover\, and Westover businesses beginning at 11 a.m. until noon.&nbsp\; Seated program begins at noon and concludes at 1 p.m.<br />\n	&nbsp\;</div>\n<div>\n	Where:&nbsp\; Pelham Civic Complex\, 500 Amphitheater Drive\, Pelham.</div>\n<div>\n	&nbsp\;</div>\n<div>\n	Admission:&nbsp\; $17 members of the Greater Shelby Chamber\, $25 non-members.</div>\n<div>\n	&nbsp\;</div>\n<div>\n	Register online by clicking above\, call the RSVP Line 663-8923 or the Chamber office 663-4542.</div>\n
LOCATION:Pelham Civic Complex\, 500 Amphitheater Road\, Pelham\, AL 35124
UID:e.145.3525
SEQUENCE:3
DTSTAMP:20260425T183249Z
URL:https://business.shelbychamber.org/events/details/greater-shelby-chamber-annual-safety-awards-2011-10-26-2011-3525
END:VEVENT

END:VCALENDAR
