BEGIN:VCALENDAR
VERSION:2.0
PRODID:-//ChamberMaster//Event Calendar 2.0//EN
METHOD:PUBLISH
X-PUBLISHED-TTL:P3D
REFRESH-INTERVAL:P3D
CALSCALE:GREGORIAN
BEGIN:VEVENT
DTSTART:20131030T160000Z
DTEND:20131030T180000Z
X-MICROSOFT-CDO-ALLDAYEVENT:FALSE
SUMMARY:Greater Shelby Chamber ~ Annual Safety Awards 2013
DESCRIPTION:Join us on October 30 for our annual Safety Awards luncheon as we honor public safety officials from throughout Shelby County. Each year we are privileged to recognize individuals who have demonstrated outstanding excellence in public safety. This is a time when we can personally give thanks to the fire\, police and sheriff personnel\, and honor them for the outstanding service and sacrifices they make each day in keeping our respective communities a safe place to live\, work\, and play.\n\n	\n\n	Thank you to our sponsor First Commercial Bank.\n\n	\n\n	Be sure to join us during networking beginning at 11:00AM.  Program will begin at 11:40AM and conclude at 1:00PM.\n\n	 \n\n	Where:  Pelham Civic Complex and Ice Arena\, 500 Amphitheater Drive\, Pelham.\n\n	 \n\n	Investment:  $17 members of the Greater Shelby Chamber\, $25 future-members.\n\n	\n\n	NOTE:  ** Reservations are needed for all guests (city officials\, department personnel\, family\, friends\, members) at the latest by noon on Wednesday\, October 23rd at the request of the caterer to prepare for the luncheon.\n\n	 \n\n	Register online by clicking above\, call the RSVP Line 663-8923 or the Chamber office 663-4542.
X-ALT-DESC;FMTTYPE=text/html:<div>\n	Join us on October 30 for our annual Safety Awards luncheon as we honor public safety officials from throughout Shelby County. Each year we are privileged to recognize individuals who have demonstrated outstanding excellence in public safety. This is a time when we can personally give thanks to the fire\, police and sheriff personnel\, and honor them for the outstanding service and sacrifices they make each day in keeping our respective communities a safe place to live\, work\, and play.<br />\n	<br />\n	Thank you to our sponsor <a href="https://firstcommercialbank.synovus.com/" target="_blank">First Commercial Bank</a>.</div>\n<div>\n	<br />\n	Be sure to join us during networking beginning at 11:00AM.&nbsp\; Program will begin at 11:40AM and conclude at 1:00PM.<br />\n	&nbsp\;</div>\n<div>\n	Where:&nbsp\; Pelham Civic Complex and Ice Arena\, 500 Amphitheater Drive\, Pelham.</div>\n<div>\n	&nbsp\;</div>\n<div>\n	Investment:&nbsp\; $17 members of the Greater Shelby Chamber\, $25 future-members.<br />\n	<br />\n	<u><strong>NOTE</strong></u>:&nbsp\; <span style="color:#ff0000\;"><strong>** </strong></span><span style="color:#000000\;"><strong><u>Reservations are needed</u></strong></span><span style="color:#ff0000\;"><strong> for all guests (city officials\, department personnel\, family\, friends\, members) </strong></span><span style="color:#000000\;"><strong><u>at the latest by noon on Wednesday\, October 23rd</u></strong></span><span style="color:#ff0000\;"><strong> at the request of the caterer to prepare for the luncheon.</strong></span></div>\n<div>\n	&nbsp\;</div>\n<div>\n	Register online by clicking above\, call the RSVP Line 663-8923 or the Chamber office 663-4542.</div>\n
LOCATION:Pelham Civic Complex and Ice Arena\, 500 Amphitheater Road\, Pelham\, AL 35124
UID:e.145.4738
SEQUENCE:3
DTSTAMP:20260424T051515Z
URL:https://business.shelbychamber.org/events/details/greater-shelby-chamber-annual-safety-awards-2013-10-30-2013-4738
END:VEVENT

END:VCALENDAR
