BEGIN:VCALENDAR
VERSION:2.0
PRODID:-//ChamberMaster//Event Calendar 2.0//EN
METHOD:PUBLISH
X-PUBLISHED-TTL:P3D
REFRESH-INTERVAL:P3D
CALSCALE:GREGORIAN
BEGIN:VEVENT
DTSTART:20141029T160000Z
DTEND:20141029T180000Z
X-MICROSOFT-CDO-ALLDAYEVENT:FALSE
SUMMARY:Greater Shelby Chamber - Annual Safety Awards 2014
DESCRIPTION:Join us on October 29 for our annual Safety Awards luncheon\, sponsored by 280 Living\, as we honor public safety officials from throughout Shelby County. Each year we are privileged to recognize individuals who have demonstrated outstanding excellence in public safety. This is a time when we can personally give thanks to the fire\, police and sheriff personnel\, and honor them for the outstanding service and sacrifices they make each day in keeping our respective communities a safe place to live\, work\, and play.\n\n\n\nBe sure to join us during networking beginning at 11:00AM.  Program will begin at 11:40AM and conclude at 1:00PM.\n\n \n\nWhere:  Pelham Civic Complex and Ice Arena\, 500 Amphitheater Drive\, Pelham.\n\n \n\nInvestment:  $20 members of the Greater Shelby Chamber\, $20 "Future" members.\n\n\n\nNOTE:  ** Reservations are needed for all guests (city officials\, department personnel\, family\, friends\, members) at the latest by noon on Monday\, October 27 at the request of the caterer to prepare for the luncheon.\n\n \n\nRegister online by clicking above or the Chamber office 663-4542.\n\n\n\nMENU:\n\nPecan Crusted Breast of Chicken\n\nTossed Garden Salad on the buffet with assorted dressings\n\nRoasted Glazed Baby Carrots\n\nMacaroni and Cheese\n\nAssorted Breads with Butter\n\nDessert Table: New Orleans Bread Pudding and Chocolate Sheet Cake
X-ALT-DESC;FMTTYPE=text/html:<div>Join us on October 29 for our annual Safety Awards luncheon\, sponsored by 280 Living\, as we honor public safety officials from throughout Shelby County. Each year we are privileged to recognize individuals who have demonstrated outstanding excellence in public safety. This is a time when we can personally give thanks to the fire\, police and sheriff personnel\, and honor them for the outstanding service and sacrifices they make each day in keeping our respective communities a safe place to live\, work\, and play.</div>\n\n<div><br />\nBe sure to join us during networking beginning at 11:00AM.&nbsp\; Program will begin at 11:40AM and conclude at 1:00PM.<br />\n&nbsp\;</div>\n\n<div>Where:&nbsp\; Pelham Civic Complex and Ice Arena\, 500 Amphitheater Drive\, Pelham.</div>\n\n<div>&nbsp\;</div>\n\n<div>Investment:&nbsp\; $20 members of the Greater Shelby Chamber\, $20 &quot\;Future&quot\; members.<br />\n<br />\n<u><strong>NOTE</strong></u>:&nbsp\; <span style="color:#ff0000\;"><strong>** </strong></span><span style="color:#000000\;"><strong><u>Reservations are needed</u></strong></span><span style="color:#ff0000\;"><strong> for all guests (city officials\, department personnel\, family\, friends\, members) </strong></span><span style="color:#000000\;"><strong><u>at the latest by noon on Monday\, October 27</u></strong></span><span style="color:#ff0000\;"><strong> at the request of the caterer to prepare for the luncheon.</strong></span></div>\n\n<div>&nbsp\;</div>\n\n<div>Register online by clicking above or the Chamber office 663-4542.<br />\n<br />\n<u><strong>MENU</strong></u>:<br />\nPecan Crusted Breast of Chicken<br />\nTossed Garden Salad on the buffet with assorted dressings<br />\nRoasted Glazed Baby Carrots<br />\nMacaroni and Cheese<br />\nAssorted Breads with Butter<br />\nDessert Table: New Orleans Bread Pudding and Chocolate Sheet Cake</div>\n
LOCATION:Pelham Civic Complex and Ice Arena\, 500 Amphitheater Road Pelham\, AL 35124
UID:e.145.6248
SEQUENCE:3
DTSTAMP:20260423T104108Z
URL:https://business.shelbychamber.org/events/details/greater-shelby-chamber-annual-safety-awards-2014-10-29-2014-6248
END:VEVENT

END:VCALENDAR
