BEGIN:VCALENDAR
VERSION:2.0
PRODID:-//ChamberMaster//Event Calendar 2.0//EN
METHOD:PUBLISH
X-PUBLISHED-TTL:P3D
REFRESH-INTERVAL:P3D
CALSCALE:GREGORIAN
BEGIN:VEVENT
DTSTART:20150416T223000Z
DTEND:20150417T000000Z
X-MICROSOFT-CDO-ALLDAYEVENT:FALSE
SUMMARY:Greater Shelby Chamber - April Business After Hours Features the Arts & Networking
DESCRIPTION:April Business After Hours Features the Arts & Networking\n\n\n\nBe sure to mark your calendar for Thursday\, April 16 and join us at the Shelby County Arts Council\, 104 Mildred Street in Columbiana from 5:30PM until 7:00PM for Shelby County's best business networking event!\n\n\n\nThe Chamber's quarterly Business After Hours -- sponsored by Shelby County Newspapers -- are a great way to make new business contacts   and have a little fun while you're doing it!  The cost to attend is affordable   only $10 for Chamber members ($20 for "Future" members)   and that includes hot\, heavy hors d'oeuvres and two complimentary beverages of your choice.\n\n\n\nAdvance reservations are requested by April 13\, so please contact the Chamber by phone at 663-4542\, via e-mail at info@shelbychamber.org or use online registration.\n\n\n\nBusiness After Hours events are premier networking opportunities\, offering members and guests the chance to meet business professionals representing products and services in a relaxed\, social setting. Members attending have an opportunity to exchange business cards and become acquainted with other businesses throughout the community.  Bring plenty of business cards!
X-ALT-DESC;FMTTYPE=text/html:<br />\n<strong>April Business After Hours Features the Arts &amp\; Networking</strong><br />\n<br />\nBe sure to mark your calendar for Thursday\, April 16 and join us at the <a href="http://www.shelbycountyartscouncil.com/">Shelby County Arts Council</a>\, 104 Mildred Street in Columbiana from 5:30PM until 7:00PM for Shelby County&rsquo\;s best business networking event!<br />\n<br />\nThe Chamber&rsquo\;s quarterly Business After Hours -- sponsored by Shelby County Newspapers -- are a great way to make new business contacts &ndash\; and have a little fun while you&rsquo\;re doing it!&nbsp\; The cost to attend is affordable &ndash\; only $10 for Chamber members ($20 for &ldquo\;Future&rdquo\; members) &ndash\; and that includes hot\, heavy hors d&rsquo\;oeuvres and two complimentary beverages of your choice.<br />\n<br />\nAdvance reservations are requested by April 13\, so please contact the Chamber by phone at 663-4542\, via e-mail at info@shelbychamber.org or use online registration.<br />\n<br />\n<a href="http://www.shelbychamber.org/default.asp?ID=109">Business After Hours</a> events are premier networking opportunities\, offering members and guests the chance to meet business professionals representing products and services in a relaxed\, social setting. Members attending have an opportunity to exchange business cards and become acquainted with other businesses throughout the community.&nbsp\; <em>Bring plenty of business cards!</em>
LOCATION:Shelby County Arts Council 104 Mildred Street Columbiana\, AL 35226 (205) 669-0044
UID:e.145.7190
SEQUENCE:3
DTSTAMP:20260423T003301Z
URL:https://business.shelbychamber.org/events/details/greater-shelby-chamber-april-business-after-hours-features-the-arts-networking-04-16-2015-7190
END:VEVENT

END:VCALENDAR
