BEGIN:VCALENDAR
VERSION:2.0
PRODID:-//ChamberMaster//Event Calendar 2.0//EN
METHOD:PUBLISH
X-PUBLISHED-TTL:P3D
REFRESH-INTERVAL:P3D
CALSCALE:GREGORIAN
BEGIN:VEVENT
DTSTART:20161221T141500Z
DTEND:20161221T150000Z
X-MICROSOFT-CDO-ALLDAYEVENT:FALSE
SUMMARY:Greater Shelby Chamber - Board of Directors' Meeting
DESCRIPTION:Greater Shelby Chamber Board of Directors' Meeting\n\n\n\nThe GSCC Board of Director's meet the third Wednesday -- bi-monthly at various locations.
X-ALT-DESC;FMTTYPE=text/html:<br />\n<span class="cm_editor_fix"><strong>Greater Shelby Chamber Board of Directors&#39\; Meeting</strong><br />\n<br />\nThe GSCC Board of Director&#39\;s meet the third Wednesday -- bi-monthly at various locations.</span>
LOCATION:
UID:e.145.8044
SEQUENCE:3
DTSTAMP:20260421T132800Z
URL:https://business.shelbychamber.org/events/details/greater-shelby-chamber-board-of-directors-meeting-12-21-2016-8044
END:VEVENT

END:VCALENDAR
