BEGIN:VCALENDAR
VERSION:2.0
PRODID:-//ChamberMaster//Event Calendar 2.0//EN
METHOD:PUBLISH
X-PUBLISHED-TTL:P3D
REFRESH-INTERVAL:P3D
CALSCALE:GREGORIAN
BEGIN:VEVENT
DTSTART:20120111T140000Z
DTEND:20120111T153000Z
X-MICROSOFT-CDO-ALLDAYEVENT:FALSE
SUMMARY:Greater Shelby Chamber ~ Breakfast with Congressman Spencer Bachus
DESCRIPTION:Greater Shelby County Chamber of Commerce Breakfast with Congressman Spencer Bachus\n\n\n\nJoin the Greater Shelby Chamber as we welcome Congressman Spencer Bachus for breakfast\, a keynote presentation\, and Q and A session at the Pelham Civic Complex from 8 am until 9:30 am on January 11th.\n\n\n\nCongressman Spencer Bachus is serving his tenth term in the U.S. House of Representatives during the 112th Congress.  As the congressman for the Sixth District of Alabama\, Bachus represents all of the counties of Bibb\, Chilton\,  and Shelby\, and parts of Coosa\, Jefferson\, St. Clair\, and Tuscaloosa counties.  Bachus earlier served in the State Senate where\, prior to his election in 1982\, no Republican had served in the body since Reconstruction.  He was the first Republican ever elected to the State School Board.\n\n\n\nIn the State Senate\, Congressman Bachus received the Legislator of the Year Award from the Department of Human Resources. He was the author of state domestic abuse statutes and wrote the first law in Alabama that penalizes repeat DUI offenders.\n\n\n\nIn the U.S. House\, Congressman Bachus reflects the views of the people of the Sixth District.  He is a conservative who supports tax relief\, fiscal responsibility\, a strong national defense and traditional values.  He has been named Guardian of Small Business by the National Federation of Independent Business\, Friend of the Taxpayer by Americans for Tax Reform\, Friend of the Family by the Christian Coalition and has received the Spirit of Free Enterprise Award from the U.S. Chamber of Commerce.\n\n\n\nRead full biography here:  Congressman Bachus Biography.
X-ALT-DESC;FMTTYPE=text/html:<strong>Greater Shelby County Chamber of Commerce Breakfast with Congressman Spencer Bachus</strong><br />\n<br />\nJoin the Greater Shelby Chamber as we welcome Congressman Spencer Bachus for breakfast\, a keynote presentation\, and Q and A session at the Pelham Civic Complex from 8 am until 9:30 am on January 11th.<br />\n<br />\nCongressman Spencer Bachus is serving his tenth term in the U.S. House of Representatives during the 112th Congress.&nbsp\; As the congressman for the Sixth District of Alabama\, Bachus represents all of the counties of Bibb\, Chilton\,&nbsp\; and Shelby\, and parts of Coosa\, Jefferson\, St. Clair\, and Tuscaloosa counties.&nbsp\; Bachus earlier served in the State Senate where\, prior to his election in 1982\, no Republican had served in the body since Reconstruction.&nbsp\; He was the first Republican ever elected to the State School Board.<br />\n<br />\nIn the State Senate\, Congressman Bachus received the Legislator of the Year Award from the Department of Human Resources. He was the author of state domestic abuse statutes and wrote the first law in Alabama that penalizes repeat DUI offenders.<br />\n<br />\nIn the U.S. House\, Congressman Bachus reflects the views of the people of the Sixth District.&nbsp\; He is a conservative who supports tax relief\, fiscal responsibility\, a strong national defense and traditional values.&nbsp\; He has been named Guardian of Small Business by the National Federation of Independent Business\, Friend of the Taxpayer by Americans for Tax Reform\, Friend of the Family by the Christian Coalition and has received the Spirit of Free Enterprise Award from the U.S. Chamber of Commerce.<br />\n<br />\nRead full biography here:&nbsp\; <a href="http://bachus.house.gov/index.php?option=com_content&amp\;view=article&amp\;id=46&amp\;Itemid=53">Congressman Bachus Biography</a>.
LOCATION:Pelham Civic Complex\, 500 Amphitheater Road\, Pelham\, AL 35124
UID:e.145.3630
SEQUENCE:3
DTSTAMP:20260425T134530Z
URL:https://business.shelbychamber.org/events/details/greater-shelby-chamber-breakfast-with-congressman-spencer-bachus-01-11-2012-3630
END:VEVENT

END:VCALENDAR
