BEGIN:VCALENDAR
VERSION:2.0
PRODID:-//ChamberMaster//Event Calendar 2.0//EN
METHOD:PUBLISH
X-PUBLISHED-TTL:P3D
REFRESH-INTERVAL:P3D
CALSCALE:GREGORIAN
BEGIN:VEVENT
DTSTART:20121025T220000Z
DTEND:20121026T000000Z
X-MICROSOFT-CDO-ALLDAYEVENT:FALSE
SUMMARY:Greater Shelby Chamber ~ Business After Hours at Big Lots - Pelham
DESCRIPTION:Join us for a Business After Hours at Big Lots\, 3550 US Highway 31 South\, Pelham\, AL 35124.\n\n\n\nMeet our host: Shopping at Big Lots\n\n\n\nAs the nation's largest broad-line closeout retailer\, Big Lots has the power to negotiate the best deals in the business. We sell a broad range of high-quality\, brand-name products\, including consumables\, seasonal items\, furniture\, housewares\, toys\, electronics\, home decor\, tools and gifts.\n\n\n\n HELPING PEOPLE CONNECT WITH THEIR INNER BARGAIN HUNTER\n\n\n\nMaybe it's the one-of-a-kind shopping experience. Or the unique and ever-changing mix of brand-name merchandise. Or perhaps it's just the thrill of the treasure hunt.\n\n\n\nBut one thing's for sure - once you get a taste of closeout shopping\, you'll never look at traditional retail the same way again.\n\n\n\nFrom everyday consumables and housewares to toys and seasonal goods\, Big Lots offers amazing values that other stores just can't match. As the nation's largest broadline closeout retailer\, we have the buying power to find and negotiate the best deals in the business.\n\n\n\nThe result? Unbeatable bargains\, with something new to discover every time. Plus stores that are genuinely fun to shop. It's a combination strong enough to break old shopping habits - turning more and more consumers into Big Lots closeout shoppers.\n\n\n	Business After Hours events are premier networking opportunities\, offering members and guests the chance to meet business professionals representing products and services in a relaxed\, social setting. Members attending have an opportunity to exchange business cards and become acquainted with other businesses throughout the community.  Bring plenty of business cards!
X-ALT-DESC;FMTTYPE=text/html:<span style="font-size:12px\;">Join us for a <a href="http://www.shelbychamber.org/default.asp?ID=109">Business After Hours</a> at <a href="http://www.biglots.com/">Big Lots</a>\, 3550 US Highway 31 South\, Pelham\, AL 35124.<br />\n<br />\nMeet our host: Shopping at Big Lots<br />\n<br />\nAs the nation&#39\;s largest broad-line closeout retailer\, Big Lots has the power to negotiate the best deals in the business. We sell a broad range of high-quality\, brand-name products\, including consumables\, seasonal items\, furniture\, housewares\, toys\, electronics\, home decor\, tools and gifts.<br />\n<br />\n&nbsp\;HELPING PEOPLE CONNECT WITH THEIR INNER BARGAIN HUNTER<br />\n<br />\nMaybe it&#39\;s the one-of-a-kind shopping experience. Or the unique and ever-changing mix of brand-name merchandise. Or perhaps it&#39\;s just the thrill of the treasure hunt.<br />\n<br />\nBut one thing&#39\;s for sure - once you get a taste of closeout shopping\, you&#39\;ll never look at traditional retail the same way again.<br />\n<br />\nFrom everyday consumables and housewares to toys and seasonal goods\, Big Lots offers amazing values that other stores just can&#39\;t match. As the nation&#39\;s largest broadline closeout retailer\, we have the buying power to find and negotiate the best deals in the business.<br />\n<br />\nThe result? Unbeatable bargains\, with something new to discover every time. Plus stores that are genuinely fun to shop. It&#39\;s a combination strong enough to break old shopping habits - turning more and more consumers into Big Lots closeout shoppers.</span><br />\n<p>\n	<span style="font-size:12px\;"><a href="http://www.shelbychamber.org/default.asp?ID=109">Business After Hours</a> events are premier networking opportunities\, offering members and guests the chance to meet business professionals representing products and services in a relaxed\, social setting. Members attending have an opportunity to exchange business cards and become acquainted with other businesses throughout the community.&nbsp\; <em>Bring plenty of business cards!</em></span></p>\n
LOCATION:Big Lots - Store #1057 3550 US Highwy 31 South Pelham\, AL 35124 (205) 620-5051
UID:e.145.4403
SEQUENCE:3
DTSTAMP:20260424T233627Z
URL:https://business.shelbychamber.org/events/details/greater-shelby-chamber-business-after-hours-at-big-lots-pelham-10-25-2012-4403
END:VEVENT

END:VCALENDAR
