BEGIN:VCALENDAR
VERSION:2.0
PRODID:-//ChamberMaster//Event Calendar 2.0//EN
METHOD:PUBLISH
X-PUBLISHED-TTL:P3D
REFRESH-INTERVAL:P3D
CALSCALE:GREGORIAN
BEGIN:VEVENT
DTSTART:20170202T233000Z
DTEND:20170203T010000Z
X-MICROSOFT-CDO-ALLDAYEVENT:FALSE
SUMMARY:Greater Shelby Chamber - Business After Hours at Brookwood Baptist Freestanding Emergency Department
DESCRIPTION:Get In On the Best "Card Game" in Shelby County\n\n@ the Chamber's February 2 Business After Hours \n\n \n\nShelby County's premier business networking event   presented by Sawyer Solutions\, LLC   will be held at the Brookwood Baptist Freestanding Emergency Department on February 2.\n\n\n\nBring plenty of business cards and come ready to make some serious business contacts. Plus\, if you meet enough people you'll earn a chance to win some prizes on February 2 from 5:30PM until 7:00PM at the Brookwood Baptist Freestanding Emergency Department\, 7131 Cahaba Valley Road\, Hoover\, 35242. The investment   which includes hors d'oeuvres and two beverage coupons -- for any Chamber investor is $10 per person and $20 for "Future" investors.   \n\n\n\nReservations are required\, so please register via email at info@shelbychamber.org\, by phone at 663-4542 or online at www.shelbychamber.org by February 1.\n\n\n\nBusiness After Hours events are premier networking opportunities\, offering investors and guests the chance to meet business professionals representing products and services in a relaxed\, social setting. Investors attending have an opportunity to exchange business cards and become acquainted with other businesses throughout the community.  Bring plenty of business cards!
X-ALT-DESC;FMTTYPE=text/html:<div style="text-align: center\;"><strong>Get In On the Best &ldquo\;Card Game&rdquo\; in Shelby County<br />\n@ the Chamber&rsquo\;s February 2&nbsp\;Business After Hours&nbsp\;</strong><br />\n&nbsp\;</div>\n\n<div>Shelby County&rsquo\;s premier business networking event &ndash\; presented by <a href="http://www.sawyersolutionsllc.com/">Sawyer Solutions\, LLC</a> &ndash\; will be held at the Brookwood Baptist Freestanding Emergency Department on February 2.<br />\n<br />\nBring plenty of business cards and come ready to make some serious business contacts. Plus\, if you meet enough people you&rsquo\;ll earn a chance to win some prizes on February 2 from 5:30PM until 7:00PM at the Brookwood Baptist Freestanding Emergency Department\, 7131 Cahaba Valley Road\, Hoover\, 35242. The investment &ndash\; which includes hors d&rsquo\;oeuvres and two beverage coupons -- for any Chamber investor is $10 per person and $20 for &ldquo\;Future&rdquo\; investors. &nbsp\;&nbsp\;<br />\n<br />\nReservations are required\, so please register via email at info@shelbychamber.org\, by phone at 663-4542 or online at www.shelbychamber.org by February 1.</div>\n\n<div><br />\n<a href="http://shelbychamber.org/benefits/chamber-programs/business-after-hours/">Business After Hours</a> events are premier networking opportunities\, offering investors and guests the chance to meet business professionals representing products and services in a relaxed\, social setting. Investors attending have an opportunity to exchange business cards and become acquainted with other businesses throughout the community.&nbsp\; <em>Bring plenty of business cards!</em>\n\n<div>&nbsp\;</div>\n</div>\n
LOCATION:Brookwood Baptist Freestanding Emergency Department 7131 Cahaba Valley Road Hoover\, 35242
UID:e.145.10326
SEQUENCE:3
DTSTAMP:20260421T121836Z
URL:https://business.shelbychamber.org/events/details/greater-shelby-chamber-business-after-hours-at-brookwood-baptist-freestanding-emergency-department-10326
END:VEVENT

END:VCALENDAR
