BEGIN:VCALENDAR
VERSION:2.0
PRODID:-//ChamberMaster//Event Calendar 2.0//EN
METHOD:PUBLISH
X-PUBLISHED-TTL:P3D
REFRESH-INTERVAL:P3D
CALSCALE:GREGORIAN
BEGIN:VEVENT
DTSTART:20150915T223000Z
DTEND:20150916T000000Z
X-MICROSOFT-CDO-ALLDAYEVENT:FALSE
SUMMARY:Greater Shelby Chamber - Business After Hours at Champy's in Alabaster
DESCRIPTION:Greater Shelby Chamber Offers Shelby County's Best Networking!\n\n\n\nOn September 15 Shelby County's premier business networking event heads to Champy's in Alabaster from 5:30PM-7:00PM.  \n\n\n\nAttendees are encouraged to bring plenty of business cards and come ready to make some serious business contacts.  Plus\, everyone present will earn a chance to win some prizes at Champy's (10695 Highway 119 in Alabaster). The cost   which includes hors d'oeuvres and two beverage coupons -- for any Chamber member is $10 per person and $20 for "Future" members.   \n\n\n\nReservations are requested by September 14\, so please register via email at info@shelbychamber.org\, by phone at 663-4542 or register online.\n\n\n\nBusiness After Hours events are premier networking opportunities\, offering members and guests the chance to meet business professionals representing products and services in a relaxed\, social setting. Members attending have an opportunity to exchange business cards and become acquainted with other businesses throughout the community.  Bring plenty of business cards!
X-ALT-DESC;FMTTYPE=text/html:<strong>Greater Shelby Chamber Offers Shelby County&rsquo\;s Best Networking!</strong><br />\n<br />\nOn September 15 Shelby County&rsquo\;s premier business networking event heads to Champy&rsquo\;s in Alabaster from 5:30PM-7:00PM. &nbsp\;<br />\n<br />\nAttendees are encouraged to bring plenty of business cards and come ready to make some serious business contacts.&nbsp\; Plus\, everyone present will earn a chance to win some prizes at Champy&rsquo\;s (10695 Highway 119 in Alabaster). The cost &ndash\; which includes hors d&rsquo\;oeuvres and two beverage coupons -- for any Chamber member is $10 per person and $20 for &ldquo\;Future&rdquo\; members.&nbsp\; &nbsp\;<br />\n<br />\nReservations are requested by September 14\, so please register via email at info@shelbychamber.org\, by phone at 663-4542 or register online.<br />\n<br />\n<a href="http://www.shelbychamber.org/default.asp?ID=109">Business After Hours</a> events are premier networking opportunities\, offering members and guests the chance to meet business professionals representing products and services in a relaxed\, social setting. Members attending have an opportunity to exchange business cards and become acquainted with other businesses throughout the community.&nbsp\; <em>Bring plenty of business cards!</em>
LOCATION:Champy's 10695 Highway 119 Alabaster\, AL 621-3994
UID:e.145.7810
SEQUENCE:3
DTSTAMP:20260422T172158Z
URL:https://business.shelbychamber.org/events/details/greater-shelby-chamber-business-after-hours-at-champy-s-in-alabaster-09-15-2015-7810
END:VEVENT

END:VCALENDAR
