BEGIN:VCALENDAR
VERSION:2.0
PRODID:-//ChamberMaster//Event Calendar 2.0//EN
METHOD:PUBLISH
X-PUBLISHED-TTL:P3D
REFRESH-INTERVAL:P3D
CALSCALE:GREGORIAN
BEGIN:VEVENT
DTSTART:20111006T220000Z
DTEND:20111007T000000Z
X-MICROSOFT-CDO-ALLDAYEVENT:FALSE
SUMMARY:Greater Shelby Chamber ~ Business After Hours at Cox Media Group\, Inc.
DESCRIPTION:Join us for a Business After Hours at Cox Media Group\, Inc.\n\n	\n\n	Cox Media Group\, Inc. is an integrated broadcasting\, publishing\, direct marketing and digital media company that includes the national advertising rep firms of Cox Reps. With $1.8 billion in revenue\, the company operations include 15 broadcast television stations and one local cable channel\, 85 radio stations\, eight daily newspapers and more than a dozen non-daily publications\, and more than 100 digital services. Additionally\, CMG owns and operates Valpak\, one of the leading direct marketing companies in North America.\n\n	 \n\n	Business After Hours events are premier networking opportunities\, offering members and guests the chance to meet business professionals representing products and services in a relaxed\, social setting.
X-ALT-DESC;FMTTYPE=text/html:<div>\n	<span style="font-size: 12px\;">Join us for a <a href="http://www.shelbychamber.org/default.asp?ID=109">Business After Hours</a> at <a href="http://www.coxmediagroup.com/">Cox Media Group\, Inc.</a><br />\n	<br />\n	<a href="http://www.coxmediagroup.com/">Cox Media Group\, Inc.</a> is an integrated broadcasting\, publishing\, direct marketing and digital media company that includes the national advertising rep firms of Cox Reps. With $1.8 billion in revenue\, the company operations include 15 broadcast television stations and one local cable channel\, 85 radio stations\, eight daily newspapers and more than a dozen non-daily publications\, and more than 100 digital services. Additionally\, CMG owns and operates Valpak\, one of the leading direct marketing companies in North America.</span></div>\n<div>\n	&nbsp\;</div>\n<div>\n	<span style="font-size: 12px\;"><a href="http://www.shelbychamber.org/default.asp?ID=109">Business After Hours</a> events are premier networking opportunities\, offering members and guests the chance to meet business professionals representing products and services in a relaxed\, social setting.</span></div>\n
LOCATION:Cox Media Group\, Inc. 2700 Corporate Drive\, Ste 115 Birmingham AL 35242 (205) 326-2537
UID:e.145.3521
SEQUENCE:3
DTSTAMP:20260425T183737Z
URL:https://business.shelbychamber.org/events/details/greater-shelby-chamber-business-after-hours-at-cox-media-group-inc-10-06-2011-3521
END:VEVENT

END:VCALENDAR
