BEGIN:VCALENDAR
VERSION:2.0
PRODID:-//ChamberMaster//Event Calendar 2.0//EN
METHOD:PUBLISH
X-PUBLISHED-TTL:P3D
REFRESH-INTERVAL:P3D
CALSCALE:GREGORIAN
BEGIN:VEVENT
DTSTART:20140918T223000Z
DTEND:20140919T000000Z
X-MICROSOFT-CDO-ALLDAYEVENT:FALSE
SUMMARY:Greater Shelby Chamber - Business After Hours at Inverness Country Club
DESCRIPTION:Chamber Members Invited To Inverness Country Club For Business After Hours!\n\n\n\nLooking for New Business Contacts?\n\nBusiness After Hours Is the Place To Be\n\n\n\nShelby County's next premier business networking event -- sponsored by Shelby County Newspapers -- is scheduled for September 18 at Inverness Country Club and if you're looking for some new business contacts\, the Chamber's Business After Hours is the place to be!\n\n\n\nCome with plenty of business cards and ready to make some serious business contacts from 5:30PM until 7:00PM.  The cost is $10 per person for Chamber members ($20 for "Future" members) and includes hors d'oeuvres and two beverage coupons.\n\n\n\nAdvanced reservations are requested\, so please make reservations online by clicking Register Now or by call the Chamber at 663-4542.\nBusiness After Hours events are premier networking opportunities\, offering members and guests the chance to meet business professionals representing products and services in a relaxed\, social setting.
X-ALT-DESC;FMTTYPE=text/html:<strong>Chamber Members Invited To Inverness Country Club For Business After Hours!</strong><br />\n<br />\n<em>Looking for New Business Contacts?<br />\nBusiness After Hours Is the Place To Be</em><br />\n<br />\nShelby County&rsquo\;s next premier business networking event -- sponsored by Shelby County Newspapers -- is scheduled for September 18 at Inverness Country Club and if you&rsquo\;re looking for some new business contacts\, the Chamber&#39\;s Business After Hours is the place to be!<br />\n<br />\nCome with plenty of business cards and ready to make some serious business contacts from 5:30PM until 7:00PM.&nbsp\; The cost is $10 per person for Chamber members ($20 for &ldquo\;Future&rdquo\; members) and includes hors d&rsquo\;oeuvres and two beverage coupons.<br />\n<br />\nAdvanced reservations are requested\, so please make reservations online by clicking Register Now or by call the Chamber at 663-4542.\n<p><a href="http://www.shelbychamber.org/default.asp?ID=109">Business After Hours</a> events are premier networking opportunities\, offering members and guests the chance to meet business professionals representing products and services in a relaxed\, social setting.</p>\n
LOCATION:Inverness Country Club #1 Country Club Dr.\, Birmingham 35242
UID:e.145.6143
SEQUENCE:3
DTSTAMP:20260423T104431Z
URL:https://business.shelbychamber.org/events/details/greater-shelby-chamber-business-after-hours-at-inverness-country-club-09-18-2014-6143
END:VEVENT

END:VCALENDAR
