BEGIN:VCALENDAR
VERSION:2.0
PRODID:-//ChamberMaster//Event Calendar 2.0//EN
METHOD:PUBLISH
X-PUBLISHED-TTL:P3D
REFRESH-INTERVAL:P3D
CALSCALE:GREGORIAN
BEGIN:VEVENT
DTSTART:20110908T200000Z
DTEND:20110909T000000Z
X-MICROSOFT-CDO-ALLDAYEVENT:FALSE
SUMMARY:Greater Shelby Chamber ~ Business After Hours at Property Enhancement Services
DESCRIPTION:Join us for a Business After Hours at Property Enhancement Services located at 2976 Pelham Parkway\, Suite C\, Pelham.\n\n	\n\n	Meet our host:  Property Enhancement Services\n\n	\n\n	Property Enhancement Services\, has been in business since 2004 and is locally owned and operated.  We are a licensed\, bonded\, and fully insured roofing contractor providing the highest quality of service throughout the Birmingham area.  They have built our reputation as a high quality provider of roofing solutions for residential\, multi-family\, and commercial facilities.  They specialize in working with insurance companies and the homeowner to ensure your roof replacement is as flawless as possible.  In most cases\, insurance companies will cover the cost for your roof replacement due to hail\, wind or other storm damage.\n\n	\n\n	They strive to make it a stress free project for you\, The Homeowner.\n\n	\n\n	NOTE:  Property Enhancement Services will be holding a ribbon cutting ceremony at 3 p.m. to kick off the Business After Hours / Open House.\n\n	\n\n	LifeSouth will be onsite for a blood drive.  YOUR PINT SAVES 3 LIVES -- Blood donors receive a LifeSouth 9-11 T- Shirt"\n\n	\n\n	They will also have Door Prizes\, Business Networking\, Food & Refreshments & Entertainment\n\n	 \n\n	Business After Hours events are premier networking opportunities\, offering members and guests the chance to meet business professionals representing products and services in a relaxed\, social setting.
X-ALT-DESC;FMTTYPE=text/html:<div>\n	<span style="font-size: 12px\;"><span style="font-family: arial\;">Join us for a <a href="http://www.shelbychamber.org/default.asp?ID=109">Business After Hours</a> at <a href="http://www.propertyenhancementservices.com/">Property Enhancement Services</a> located at 2976 Pelham Parkway\, Suite C\, Pelham.<br />\n	<br />\n	<span style="font-size: 12px\;"><span style="font-family: arial\;">Meet our host:&nbsp\; <a href="http://www.propertyenhancementservices.com/">Property Enhancement Services</a><br />\n	<br />\n	</span></span><a href="http://www.propertyenhancementservices.com/">Property Enhancement Services</a>\, has been in business since 2004 and is locally owned and operated.&nbsp\; We are a licensed\, bonded\, and fully insured roofing contractor providing the highest quality of service throughout the Birmingham area.&nbsp\; They have built our reputation as a high quality provider of roofing solutions for residential\, multi-family\, and commercial facilities.&nbsp\; They specialize in working with insurance companies and the homeowner to ensure your roof replacement is as flawless as possible.&nbsp\; In most cases\, insurance companies will cover the cost for your roof replacement due to hail\, wind or other storm damage.<br />\n	<br />\n	They strive to make it a stress free project for you\, The Homeowner.<br />\n	<br />\n	<u><strong>NOTE</strong></u>:&nbsp\; Property Enhancement Services will be holding a ribbon cutting ceremony at 3 p.m. to kick off the Business After Hours / Open House.<br />\n	<br />\n	LifeSouth will be onsite for a blood drive.&nbsp\; YOUR PINT SAVES 3 LIVES -- Blood donors receive a LifeSouth 9-11 T- Shirt&quot\;<br />\n	<br />\n	They will also have Door Prizes\, Business Networking\, Food &amp\; Refreshments &amp\; Entertainment</span></span></div>\n<div>\n	&nbsp\;</div>\n<div>\n	<span style="font-size: 12px\;"><span style="font-family: arial\;"><a href="http://www.shelbychamber.org/default.asp?ID=109">Business After Hours</a> events are premier networking opportunities\, offering members and guests the chance to meet business professionals representing products and services in a relaxed\, social setting.</span></span></div>\n
LOCATION:Property Enhancement Services 252 Yeager Parkway in Pelham 205-621-2652
UID:e.145.3485
SEQUENCE:3
DTSTAMP:20260425T201015Z
URL:https://business.shelbychamber.org/events/details/greater-shelby-chamber-business-after-hours-at-property-enhancement-services-09-08-2011-3485
END:VEVENT

END:VCALENDAR
