BEGIN:VCALENDAR
VERSION:2.0
PRODID:-//ChamberMaster//Event Calendar 2.0//EN
METHOD:PUBLISH
X-PUBLISHED-TTL:P3D
REFRESH-INTERVAL:P3D
CALSCALE:GREGORIAN
BEGIN:VEVENT
DTSTART:20120119T230000Z
DTEND:20120120T010000Z
X-MICROSOFT-CDO-ALLDAYEVENT:FALSE
SUMMARY:Greater Shelby Chamber ~ Business After Hours at Pump It Up - Pelham
DESCRIPTION:Join us for a Business After Hours at Pump It Up Pelham.\n\n\n\nPump It Up of Pelham is Shelby County's premiere children's birthday party place. Pump It Up of Pelham\, "The Inflatable Party Zone\," serves Pelham\, Hoover\, Alabaster and surrounding communities with a completely private party experience. From our indoor\, gigantic inflatable filled arenas\, to our private party rooms our staff takes care of everything for your child's birthday party. All you need to do is coordinate a group of happy kids who want to have a jumping party!\n\n\n\nBe sure to dress in comfy clothes and bring your children with you for a FUN and PLAYFUL evening at Pump It Up. We all are planning to play on the inflatables!\n\n\n\nThey will also have a drawing for a FREE Classic Weekday party so bring your business card! A $225 value! You can use it for a birthday\, team\, church\, school\, or just a fun get-together! We'll also have some great snacks to munch on!\n\n\n\nPump It Up of Pelham is a great place to host all your events. We offer private team parties\, fundraisers\, field trips and more that can be customized for your group. If you're ready to book a spectacular\, private party for your child\, or have questions\, call us at (205) 663-4646.
X-ALT-DESC;FMTTYPE=text/html:Join us for a Business After Hours at <a href="http://www.pumpitupparty.com/al/pelham/home-p1q15.htm">Pump It Up Pelham</a>.<br />\n<br />\n<a href="http://www.pumpitupparty.com/al/pelham/home-p1q15.htm">Pump It Up of Pelham</a> is Shelby County&rsquo\;s premiere children&rsquo\;s birthday party place. Pump It Up of Pelham\, &quot\;The Inflatable Party Zone\,&quot\; serves Pelham\, Hoover\, Alabaster and surrounding communities with a completely private party experience. From our indoor\, gigantic inflatable filled arenas\, to our private party rooms our staff takes care of everything for your child&rsquo\;s birthday party. All you need to do is coordinate a group of happy kids who want to have a jumping party!<br />\n<br />\n<strong>Be sure to dress in comfy clothes and bring your children with you for a FUN and PLAYFUL evening at Pump It Up. We all are planning to play on the inflatables!</strong><br />\n<br />\n<strong>They will also have a drawing for a FREE Classic Weekday party so bring your business card! A $225 value! You can use it for a birthday\, team\, church\, school\, or just a fun get-together! We&#39\;ll also have some great snacks to munch on!</strong><br />\n<br />\nPump It Up of Pelham is a great place to host all your events. We offer private team parties\, fundraisers\, field trips and more that can be customized for your group. If you&rsquo\;re ready to book a spectacular\, private party for your child\, or have questions\, call us at (205) 663-4646.<br />\n<br />\n
LOCATION:Pump It Up 2724 Chandalar Place Drive Pelham AL 35124 (205) 663-4646
UID:e.145.3632
SEQUENCE:3
DTSTAMP:20260425T135443Z
URL:https://business.shelbychamber.org/events/details/greater-shelby-chamber-business-after-hours-at-pump-it-up-pelham-01-19-2012-3632
END:VEVENT

END:VCALENDAR
