BEGIN:VCALENDAR
VERSION:2.0
PRODID:-//ChamberMaster//Event Calendar 2.0//EN
METHOD:PUBLISH
X-PUBLISHED-TTL:P3D
REFRESH-INTERVAL:P3D
CALSCALE:GREGORIAN
BEGIN:VEVENT
DTSTART:20120913T220000Z
DTEND:20120914T000000Z
X-MICROSOFT-CDO-ALLDAYEVENT:FALSE
SUMMARY:Greater Shelby Chamber ~ Business After Hours at Scott Richards Insurance Agency
DESCRIPTION:Join us for a Business After Hours at Scott Richards Agency\, Nationwide is On Your Side.  2070 Valleydale Road\, Suite 4\, Hoover.\n\n\n\nScott has an Open House and Business After Hours featuring and Old Fashioned Pig Roast for our members to enjoy!  He has requested and RSVP for the event to assist in preparation for the event.  Call 988-4346 or RSVP online and we'll let him know you're planning to attend!\n\n\n\nClick here for a PDF printable flier of the event.\n\n\n\nThis is going to be a great night of fun so bring your appetite\, plenty of business cards\, and get ready to enjoy a relaxing fun evening with your fellow Greater Shelby Chamber member family!\n\n\n	Business After Hours events are premier networking opportunities\, offering members and guests the chance to meet business professionals representing products and services in a relaxed\, social setting. Members attending have an opportunity to exchange business cards and become acquainted with other businesses throughout the community.  Bring plenty of business cards!
X-ALT-DESC;FMTTYPE=text/html:<span style="font-size:10px\;"><span style="font-family: arial\;">Join us for a <a href="http://www.shelbychamber.org/default.asp?ID=109">Business After Hours</a> at <a href="http://www.nationwide.com/agent/Birmingham-ALABAMA-insurance-agent/scottrichards/office.html">Scott Richards Agency</a>\, Nationwide is On Your Side.&nbsp\; 2070 Valleydale Road\, Suite 4\, Hoover.<br />\n<br />\nScott has an Open House and Business After Hours featuring and Old Fashioned Pig Roast for our members to enjoy!&nbsp\; He has requested and RSVP for the event to assist in preparation for the event.&nbsp\; Call 988-4346 or RSVP online and we&#39\;ll let him know you&#39\;re planning to attend!<br />\n<br />\n<a href="http://cloud.chambermaster.com/userfiles/UserFiles/chambers/145/File/Community%20Events/Openhouseflyer.pdf">Click here for a PDF printable flier of the event.</a><br />\n<br />\nThis is going to be a great night of fun so bring your appetite\, plenty of business cards\, and get ready to enjoy a relaxing fun evening with your fellow Greater Shelby Chamber member family!</span></span><br />\n<p>\n	<span style="font-size:10px\;"><span style="font-family: arial\;"><a href="http://www.shelbychamber.org/default.asp?ID=109">Business After Hours</a> events are premier networking opportunities\, offering members and guests the chance to meet business professionals representing products and services in a relaxed\, social setting. Members attending have an opportunity to exchange business cards and become acquainted with other businesses throughout the community.&nbsp\; <em>Bring plenty of business cards!</em></span></span></p>\n
LOCATION:Scott Richards Insurance Agency 2070 Valleydale Road\, Ste 5 Hoover\, AL 35244 (205) 988-4346
UID:e.145.4362
SEQUENCE:3
DTSTAMP:20260425T011558Z
URL:https://business.shelbychamber.org/events/details/greater-shelby-chamber-business-after-hours-at-scott-richards-insurance-agency-09-13-2012-4362
END:VEVENT

END:VCALENDAR
