BEGIN:VCALENDAR
VERSION:2.0
PRODID:-//ChamberMaster//Event Calendar 2.0//EN
METHOD:PUBLISH
X-PUBLISHED-TTL:P3D
REFRESH-INTERVAL:P3D
CALSCALE:GREGORIAN
BEGIN:VEVENT
DTSTART:20160915T223000Z
DTEND:20160916T000000Z
X-MICROSOFT-CDO-ALLDAYEVENT:FALSE
SUMMARY:Greater Shelby Chamber - Business After Hours at Shelby County Arts Council
DESCRIPTION:Get In On the Best "Card Game" in Shelby County\n\n@ the Chamber's September 15 Business After Hours \n\n \n\nShelby County's premier business networking event   presented in 2016 by Shelby County Newspapers\, Inc.   will be held at the Shelby County Art's Council on September 15.\n\n\n\nBring plenty of business cards and come ready to make some serious business contacts. Plus\, if you meet enough people you'll earn a chance to win some prizes on September 15 from 5:30PM until 7:00PM at the Shelby County Art's Council\, 104 Mildred Street\, Columbiana\, 35051. The investment   which includes hors d'oeuvres and two beverage coupons -- for any Chamber investor is $10 per person and $20 for "Future" investors.   \n\n\n\nReservations are required\, so please register via email at info@shelbychamber.org\, by phone at 663-4542 or online by September 12.\n\n\n\nBusiness After Hours events are premier networking opportunities\, offering investors and guests the chance to meet business professionals representing products and services in a relaxed\, social setting. Investors attending have an opportunity to exchange business cards and become acquainted with other businesses throughout the community.  Bring plenty of business cards!
X-ALT-DESC;FMTTYPE=text/html:<div style="text-align: center\;"><strong>Get In On the Best &ldquo\;Card Game&rdquo\; in Shelby County<br />\n@ the Chamber&rsquo\;s September 15 Business After Hours&nbsp\;</strong><br />\n&nbsp\;</div>\n\n<div>Shelby County&rsquo\;s premier business networking event &ndash\; presented in 2016 by Shelby County Newspapers\, Inc. &ndash\; will be held at the Shelby County Art&#39\;s Council on September 15.<br />\n<br />\nBring plenty of business cards and come ready to make some serious business contacts. Plus\, if you meet enough people you&rsquo\;ll earn a chance to win some prizes on September 15 from 5:30PM until 7:00PM at the Shelby County Art&#39\;s Council\, 104 Mildred Street\, Columbiana\, 35051. The investment &ndash\; which includes hors d&rsquo\;oeuvres and two beverage coupons -- for any Chamber investor is $10 per person and $20 for &ldquo\;Future&rdquo\; investors. &nbsp\;&nbsp\;<br />\n<br />\nReservations are required\, so please register via email at info@shelbychamber.org\, by phone at 663-4542 or online by September 12.</div>\n\n<div><br />\n<a href="http://shelbychamber.org/benefits/chamber-programs/business-after-hours/">Business After Hours</a> events are premier networking opportunities\, offering investors and guests the chance to meet business professionals representing products and services in a relaxed\, social setting. Investors attending have an opportunity to exchange business cards and become acquainted with other businesses throughout the community.&nbsp\; <em>Bring plenty of business cards!</em>\n\n<div>&nbsp\;</div>\n</div>\n
LOCATION:Shelby County Art's Council 104 Mildred Street Columbiana\, 35051
UID:e.145.9718
SEQUENCE:3
DTSTAMP:20260421T184305Z
URL:https://business.shelbychamber.org/events/details/greater-shelby-chamber-business-after-hours-at-shelby-county-arts-council-09-15-2016-9718
END:VEVENT

END:VCALENDAR
