BEGIN:VCALENDAR
VERSION:2.0
PRODID:-//ChamberMaster//Event Calendar 2.0//EN
METHOD:PUBLISH
X-PUBLISHED-TTL:P3D
REFRESH-INTERVAL:P3D
CALSCALE:GREGORIAN
BEGIN:VEVENT
DTSTART:20131217T233000Z
DTEND:20131218T010000Z
X-MICROSOFT-CDO-ALLDAYEVENT:FALSE
SUMMARY:Greater Shelby Chamber - Business After Hours at Timberline Golf Club
DESCRIPTION:Ring-In the Holiday Season with December 17 Business After Hours\n\n\n\nShelby County's premier business networking event has a "holiday" theme this month and Chamber members from the Calera\, Greater Shelby\, Montevallo and South Shelby Chambers are invited to "celebrate the season" at the next Business After Hours event presented by Shelby County Newspapers. What's more\, Jolly Old St. Nick himself -- sponsored by Associa McKay Management -- will be there to ensure everyone's Christmas list is received.\n\n\n\nBring plenty of business cards\, come ready to make some serious business contacts and earn a chance to win some prizes on December 17 from 5:30PM until 7:00PM at Timberline Golf Club.\n\n\n\nThe investment\, which includes hors d'oeuvres and two beverage coupons\, for Chamber members is $10 per person and $20 for "Future" members.  Reservations are required no later than December 16.  Visit www.shelbychamber.org to register online\, E-mail info@shelbychamber.org or call the Chamber at 663-4542.\n\n\n\nBusiness After Hours events are premier networking opportunities\, offering members and guests the chance to meet business professionals representing products and services in a relaxed\, social setting. Members attending have an opportunity to exchange business cards and become acquainted with other businesses throughout the community.  Bring plenty of business cards!
X-ALT-DESC;FMTTYPE=text/html:<strong>Ring-In the Holiday Season with December 17 Business After Hours</strong><br />\n<br />\nShelby County&rsquo\;s premier business networking event has a &ldquo\;holiday&rdquo\; theme this month and Chamber members from the Calera\, Greater Shelby\, Montevallo and South Shelby Chambers are invited to &ldquo\;celebrate the season&rdquo\; at the next Business After Hours event presented by Shelby County Newspapers. What&rsquo\;s more\, Jolly Old St. Nick himself -- sponsored by Associa McKay Management -- will be there to ensure everyone&rsquo\;s Christmas list is received.<br />\n<br />\nBring plenty of business cards\, come ready to make some serious business contacts and earn a chance to win some prizes on December 17 from 5:30PM until 7:00PM at Timberline Golf Club.<br />\n<br />\nThe investment\, which includes hors d&rsquo\;oeuvres and two beverage coupons\, for Chamber members is $10 per person and $20 for &ldquo\;Future&rdquo\; members.&nbsp\; Reservations are required no later than December 16.&nbsp\; Visit www.shelbychamber.org to register online\, E-mail <a href="mailto:info@shelbychamber.org?subject=Business%20After%20Hours%20Dec%2017%20Timberline%20Golf%20Club">info@shelbychamber.org</a> or call the Chamber at 663-4542.<br />\n<br />\n<a href="http://www.shelbychamber.org/default.asp?ID=109">Business After Hours</a> events are premier networking opportunities\, offering members and guests the chance to meet business professionals representing products and services in a relaxed\, social setting. Members attending have an opportunity to exchange business cards and become acquainted with other businesses throughout the community.&nbsp\; <em>Bring plenty of business cards!</em>
LOCATION:Timberline Golf Club\, 300 Timberline Trail Calera\, AL 35040 (205) 668-7888
UID:e.145.4924
SEQUENCE:3
DTSTAMP:20260424T003248Z
URL:https://business.shelbychamber.org/events/details/greater-shelby-chamber-business-after-hours-at-timberline-golf-club-12-17-2013-4924
END:VEVENT

END:VCALENDAR
