BEGIN:VCALENDAR
VERSION:2.0
PRODID:-//ChamberMaster//Event Calendar 2.0//EN
METHOD:PUBLISH
X-PUBLISHED-TTL:P3D
REFRESH-INTERVAL:P3D
CALSCALE:GREGORIAN
BEGIN:VEVENT
DTSTART:20121218T233000Z
DTEND:20121219T010000Z
X-MICROSOFT-CDO-ALLDAYEVENT:FALSE
SUMMARY:Greater Shelby Chamber ~ Business After Hours at Timberline Golf Club
DESCRIPTION:Ring in the Holiday Season on December 18th at Business After Hours\n\n\n\nThe Greater Shelby County Chamber   in partnership with the Calera Chamber\, Montevallo Chamber and South Shelby Chamber   is planning the area's premier business networking event with a "holiday" theme on December 18th at Timberline Golf Club\, 300 Timberline Trail\, Calera. The event is sponsored by Business Telephones\, Incorporated.\n\n\n\nWith businesses from all four organizations invited to "celebrate the season" this will be an excellent opportunity to make new business contacts\, so plan on bringing lots of business cards with you December 18th!\n\n\n\nInvestment is $5 per person for Chamber members from any of the four Chambers and includes hot\, heavy hors d'oeuvres and two complimentary beverages.\n\n\n\nBusiness After Hours events are premier networking opportunities\, offering members and guests the chance to meet business professionals representing products and services in a relaxed\, social setting. Members attending have an opportunity to exchange business cards and become acquainted with other businesses throughout the community.  Bring plenty of business cards!
X-ALT-DESC;FMTTYPE=text/html:Ring in the Holiday Season on December 18th at Business After Hours<br />\n<br />\nThe Greater Shelby County Chamber &ndash\; in partnership with the Calera Chamber\, Montevallo Chamber and South Shelby Chamber &ndash\; is planning the area&rsquo\;s premier business networking event with a &ldquo\;holiday&rdquo\; theme on December 18th at <a href="http://www.timberlinegc.com/">Timberline Golf Club</a>\, 300 Timberline Trail\, Calera. The event is sponsored by <a href="http://bticonnect.com/">Business Telephones\, Incorporated</a>.<br />\n<br />\nWith businesses from all four organizations invited to &ldquo\;celebrate the season&rdquo\; this will be an excellent opportunity to make new business contacts\, so plan on bringing lots of business cards with you December 18th!<br />\n<br />\nInvestment is $5 per person for Chamber members from any of the four Chambers and includes hot\, heavy hors d&rsquo\;oeuvres and two complimentary beverages.<br />\n<a href="http://www.shelbychamber.org/default.asp?ID=109"><br />\nBusiness After Hours</a> events are premier networking opportunities\, offering members and guests the chance to meet business professionals representing products and services in a relaxed\, social setting. Members attending have an opportunity to exchange business cards and become acquainted with other businesses throughout the community.&nbsp\; <em>Bring plenty of business cards!</em>
LOCATION:Timberline Golf Club\, 300 Timberline Trail Calera\, AL 35040 (205) 668-7888
UID:e.145.4435
SEQUENCE:3
DTSTAMP:20260424T220912Z
URL:https://business.shelbychamber.org/events/details/greater-shelby-chamber-business-after-hours-at-timberline-golf-club-12-18-2012-4435
END:VEVENT

END:VCALENDAR
