BEGIN:VCALENDAR
VERSION:2.0
PRODID:-//ChamberMaster//Event Calendar 2.0//EN
METHOD:PUBLISH
X-PUBLISHED-TTL:P3D
REFRESH-INTERVAL:P3D
CALSCALE:GREGORIAN
BEGIN:VEVENT
DTSTART:20140619T223000Z
DTEND:20140620T000000Z
X-MICROSOFT-CDO-ALLDAYEVENT:FALSE
SUMMARY:Greater Shelby Chamber - Business After Hours @ Dixie Fish Company
DESCRIPTION:Greater Shelby Chamber Members Meeting at Dixie Fish Company Business After Hours!\n\n\n\nBe sure to mark your calendar for Thursday\, June 19 and meet your fellow Chamber members at Dixie Fish Company\, 101 Resource Center Parkway\, Birmingham\, from 5:30PM until 7:00PM for Shelby County's biggest and best business networking event! Thank you to our presenting sponsor Shelby County Newspapers.\n\n\n\nThe Chamber's quarterly Business After Hours events are a great way to make new business contacts   and have a little fun while you're doing it!  The cost to attend is affordable   only $10 for Chamber members ($20 for "Future" members)   and that includes hot\, heavy hors d'oeuvres and two complimentary beverages of your choice.\n\n\n\nReservations are requested by June 18\, so please contact the Chamber by phone at 663-4542\, via e-mail at info@shelbychamber.org or use the online registration button above.\n\n\n\n\n\nMeet our host:\nThe story of Dixie Fish Co. began long before we opened our doors in the year of our Lord 2013. Back in an era when one couldn't even conceive of eating seafood that came from a far-off coast\, or heaven forbid another continent. You hauled it in\, you cooked it\, and you ate it. It was simple. It was real. It was everything we wanted Dixie Fish to be.\n\n\n\nThe thing is\, there's already a lot of good seafood restaurants out there\, serving great varieties of fish\, shrimp\, crab and oysters from all over the country. But our ambitions never lay in being just another good seafood place.\n\n\n\nWe wanted to do something different. Because for us\, there's just nothing like sitting down to a plate of fresh oysters\, Red Snapper\, or Royal Red Shrimp\, knowing that it's fresh from the waters just down the road maybe even "that day" kind of fresh.\n\n\n\nCatch it close\, prepare it in the old ways\, and serve the time-honored tenets of Southern culinary tradition. That's the Dixie Fish way. But it doesn't stop there: we source everything we can locally\, from family farm produce to Alabama craft beers and more. We could talk about it forever\, but frankly\, we'd rather go fishing. Bon appetit folks!\n\n\nBusiness After Hours events are premier networking opportunities\, offering members and guests the chance to meet business professionals representing products and services in a relaxed\, social setting.
X-ALT-DESC;FMTTYPE=text/html:<p><strong>Greater Shelby Chamber Members Meeting at <a href="http://dixiefish.co/">Dixie Fish Company</a> Business After Hours!</strong><br />\n<br />\nBe sure to mark your calendar for Thursday\, June 19 and meet your fellow Chamber members at <a href="http://dixiefish.co/">Dixie Fish Company</a>\, 101 Resource Center Parkway\, Birmingham\, from 5:30PM until 7:00PM for Shelby County&rsquo\;s biggest and best business networking event! Thank you to our presenting sponsor Shelby County Newspapers.<br />\n<br />\nThe Chamber&rsquo\;s quarterly Business After Hours events are a great way to make new business contacts &ndash\; and have a little fun while you&rsquo\;re doing it!&nbsp\; The cost to attend is affordable &ndash\; only $10 for Chamber members ($20 for &ldquo\;Future&rdquo\; members) &ndash\; and that includes hot\, heavy hors d&rsquo\;oeuvres and two complimentary beverages of your choice.<br />\n<br />\nReservations are requested by June 18\, so please contact the Chamber by phone at 663-4542\, via e-mail at info@shelbychamber.org or use the online registration button above.<br />\n<br />\n<br />\nMeet our host:</p>\nThe story of Dixie Fish Co. began long before we opened our doors in the year of our Lord 2013. Back in an era when one couldn&rsquo\;t even conceive of eating seafood that came from a far-off coast\, or&mdash\;heaven forbid&mdash\;another continent. You hauled it in\, you cooked it\, and you ate it. It was simple. It was real. It was everything we wanted Dixie Fish to be.<br />\n<br />\nThe thing is\, there&rsquo\;s already a lot of good seafood restaurants out there\, serving great varieties of fish\, shrimp\, crab and oysters from all over the country. But our ambitions never lay in being just another good seafood place.<br />\n<br />\nWe wanted to do something different. Because for us\, there&rsquo\;s just nothing like sitting down to a plate of fresh oysters\, Red Snapper\, or Royal Red Shrimp\, knowing that it&rsquo\;s fresh from the waters just down the road&mdash\;maybe even &ldquo\;that day&rdquo\; kind of fresh.<br />\n<br />\nCatch it close\, prepare it in the old ways\, and serve the time-honored tenets of Southern culinary tradition. That&rsquo\;s the Dixie Fish way. But it doesn&rsquo\;t stop there: we source everything we can locally\, from family farm produce to Alabama craft beers and more. We could talk about it forever\, but frankly\, we&rsquo\;d rather go fishing. Bon appetit folks!\n<p><br />\n<a href="http://www.shelbychamber.org/default.asp?ID=109">Business After Hours</a> events are premier networking opportunities\, offering members and guests the chance to meet business professionals representing products and services in a relaxed\, social setting.</p>\n
LOCATION:Dixie Fish Company 101 Resource Center Parkway Birmingham\, AL 35242 (205) 924-3493
UID:e.145.5498
SEQUENCE:3
DTSTAMP:20260423T151553Z
URL:https://business.shelbychamber.org/events/details/greater-shelby-chamber-business-after-hours-dixie-fish-company-06-19-2014-5498
END:VEVENT

END:VCALENDAR
