BEGIN:VCALENDAR
VERSION:2.0
PRODID:-//ChamberMaster//Event Calendar 2.0//EN
METHOD:PUBLISH
X-PUBLISHED-TTL:P3D
REFRESH-INTERVAL:P3D
CALSCALE:GREGORIAN
BEGIN:VEVENT
DTSTART:20120920T223000Z
DTEND:20120921T003000Z
X-MICROSOFT-CDO-ALLDAYEVENT:FALSE
SUMMARY:Greater Shelby Chamber ~ Business After Hours Heart of Dixie Harley-Davidson
DESCRIPTION:Join us for a Business After Hours at Heart of Dixie Harley-Davidson\, 333 Cahaba Valley Pkwy\, Pelham.\n\n\n\nMeet our host:\n\n\n\nHeart of Dixie Harley-Davidson\n\n\n\nWe at Heart of Dixie Harley-Davidson are pleased to welcome you to the experience of a lifetime. Heart of Dixie Harley-Davidson offers excellent customer service. We know Harley-Davidson  motorcycles and we are here to help you to the fullest! From our factory trained technicians to our MotorClothes  merchandise associates\, we are always ready to assist you. Whether you're a beginner\, or taking the next step to a new Twin Cam 103 \, the power train of the 21st century\, we can help point you in the right direction to make all your biker dreams come true. Our staff doesn't just sell the extraordinary Harley-Davidson lifestyle\, they live it themselves. So feel free to stop by any time to hangout and enjoy some good ole' southern hospitality.\n\n\n\nBusiness After Hours events are premier networking opportunities\, offering members and guests the chance to meet business professionals representing products and services in a relaxed\, social setting. Members attending have an opportunity to exchange business cards and become acquainted with other businesses throughout the community.  Bring plenty of business cards!
X-ALT-DESC;FMTTYPE=text/html:Join us for a <a href="http://www.shelbychamber.org/default.asp?ID=109">Business After Hours</a> at <a href="http://www.heartofdixiehd.com/">Heart of Dixie Harley-Davidson</a>\, 333 Cahaba Valley Pkwy\, Pelham.<br />\n<br />\nMeet our host:<br />\n<br />\n<a href="http://www.heartofdixiehd.com/aboutus.asp">Heart of Dixie Harley-Davidson</a><br />\n<br />\nWe at Heart of Dixie Harley-Davidson are pleased to welcome you to the experience of a lifetime. Heart of Dixie Harley-Davidson offers excellent customer service. We know Harley-Davidson&reg\; motorcycles and we are here to help you to the fullest! From our factory trained technicians to our MotorClothes&reg\; merchandise associates\, we are always ready to assist you. Whether you&rsquo\;re a beginner\, or taking the next step to a new Twin Cam 103&reg\;\, the power train of the 21st century\, we can help point you in the right direction to make all your biker dreams come true. Our staff doesn&#39\;t just sell the extraordinary Harley-Davidson lifestyle\, they live it themselves. So feel free to stop by any time to hangout and enjoy some good ole&rsquo\; southern hospitality.<br />\n<a href="http://www.shelbychamber.org/default.asp?ID=109"><br />\nBusiness After Hours</a> events are premier networking opportunities\, offering members and guests the chance to meet business professionals representing products and services in a relaxed\, social setting. Members attending have an opportunity to exchange business cards and become acquainted with other businesses throughout the community.&nbsp\; <em>Bring plenty of business cards!</em>
LOCATION:Heart of Dixie Harley-Davidson 333 Cahaba Valley Parkway Pelham\, AL 35124 (205) 560-1234
UID:e.145.4364
SEQUENCE:3
DTSTAMP:20260425T011322Z
URL:https://business.shelbychamber.org/events/details/greater-shelby-chamber-business-after-hours-heart-of-dixie-harley-davidson-09-20-2012-4364
END:VEVENT

END:VCALENDAR
