BEGIN:VCALENDAR
VERSION:2.0
PRODID:-//ChamberMaster//Event Calendar 2.0//EN
METHOD:PUBLISH
X-PUBLISHED-TTL:P3D
REFRESH-INTERVAL:P3D
CALSCALE:GREGORIAN
BEGIN:VEVENT
DTSTART:20140320T223000Z
DTEND:20140321T000000Z
X-MICROSOFT-CDO-ALLDAYEVENT:FALSE
SUMMARY:Greater Shelby Chamber ~ Business After Hours Ice & Coal Gallery
DESCRIPTION:Chamber Members Headed To Ice & Coal Gallery For March Business After Hours!\n\n	\n\n	Be sure to mark your calendar for Thursday\, March 20 and join us at Ice & Coal Gallery in Helena from 5:30PM until 7:00PM for Shelby County's best business networking event!\n\n	\n\n	The Chamber's quarterly Business After Hours\, presented by Shelby County Reporter\, are a great way to make new business contacts   and have a little fun while you're doing it!  The cost to attend is affordable   only $10 for Chamber members ($20 for "Future" members)   and that includes hot\, heavy hors d'oeuvres and two complimentary beverages of your choice.\n\n	\n\n	Reservations are requested by noon\, March 17.\nBusiness After Hours events are premier networking opportunities\, offering members and guests the chance to meet business professionals representing products and services in a relaxed\, social setting.
X-ALT-DESC;FMTTYPE=text/html:<p>\n	<span style="font-size:10px\;"><span style="font-family: arial\;"><strong>Chamber Members Headed To Ice &amp\; Coal Gallery For March Business After Hours!</strong><br />\n	<br />\n	Be sure to mark your calendar for Thursday\, March 20 and join us at Ice &amp\; Coal Gallery in Helena from 5:30PM until 7:00PM for Shelby County&#39\;s best business networking event!<br />\n	<br />\n	The Chamber&#39\;s quarterly Business After Hours\, presented by Shelby County Reporter\, are a great way to make new business contacts &ndash\; and have a little fun while you&rsquo\;re doing it!&nbsp\; The cost to attend is affordable &ndash\; only $10 for Chamber members ($20 for &ldquo\;Future&rdquo\; members) &ndash\; and that includes hot\, heavy hors d&rsquo\;oeuvres and two complimentary beverages of your choice.<br />\n	<br />\n	Reservations are requested by noon\, March 17.</span></span></p>\n<span style="font-size:10px\;"><span style="font-family: arial\;"><a href="http://www.shelbychamber.org/default.asp?ID=109">Business After Hours</a> events are premier networking opportunities\, offering members and guests the chance to meet business professionals representing products and services in a relaxed\, social setting.</span></span><br />\n
LOCATION:Ice & Coal Gallery 4089 Helena Rd.\, Helena
UID:e.145.5042
SEQUENCE:3
DTSTAMP:20260423T201514Z
URL:https://business.shelbychamber.org/events/details/greater-shelby-chamber-business-after-hours-ice-coal-gallery-03-20-2014-5042
END:VEVENT

END:VCALENDAR
