BEGIN:VCALENDAR
VERSION:2.0
PRODID:-//ChamberMaster//Event Calendar 2.0//EN
METHOD:PUBLISH
X-PUBLISHED-TTL:P3D
REFRESH-INTERVAL:P3D
CALSCALE:GREGORIAN
BEGIN:VEVENT
DTSTART:20130716T223000Z
DTEND:20130717T000000Z
X-MICROSOFT-CDO-ALLDAYEVENT:FALSE
SUMMARY:Greater Shelby Chamber Business After Hours ~ Inverness Country Club
DESCRIPTION:Chamber Members Invited To Inverness Country Club For July Business After Hours!\n\n\n\nBe sure to mark your calendar for Tuesday\, July 16 and join your fellow Chamber members at Inverness Country Club from 5:30PM until 7:00PM for Shelby County's biggest and best business networking event!\n\n\n\nThe Chamber's quarterly Business After Hours events are a great way to make new business contacts   and have a little fun while you're doing it!  The cost to attend is affordable   only $10 for Chamber members ($20 for "Future" members)   and that includes hot\, heavy hors d'oeuvres and two complimentary beverages of your choice.\n\n\n\nReservations are requested\, so please contact the Chamber by phone at 663-4542\, via e-mail at info@shelbychamber.org or register online at www.shelbychamber.org.\n\n\n	Business After Hours events are premier networking opportunities\, offering members and guests the chance to meet business professionals representing products and services in a relaxed\, social setting.
X-ALT-DESC;FMTTYPE=text/html:<strong>Chamber Members Invited To Inverness Country Club For July Business After Hours!</strong><br />\n<br />\nBe sure to mark your calendar for Tuesday\, July 16 and join your fellow Chamber members at Inverness Country Club from 5:30PM until 7:00PM for Shelby County&rsquo\;s biggest and best business networking event!<br />\n<br />\nThe Chamber&rsquo\;s quarterly Business After Hours events are a great way to make new business contacts &ndash\; and have a little fun while you&rsquo\;re doing it!&nbsp\; The cost to attend is affordable &ndash\; only $10 for Chamber members ($20 for &ldquo\;Future&rdquo\; members) &ndash\; and that includes hot\, heavy hors d&rsquo\;oeuvres and two complimentary beverages of your choice.<br />\n<br />\nReservations are requested\, so please contact the Chamber by phone at 663-4542\, via e-mail at info@shelbychamber.org or register online at www.shelbychamber.org.<br />\n<p>\n	<a href="http://www.shelbychamber.org/default.asp?ID=109">Business After Hours</a> events are premier networking opportunities\, offering members and guests the chance to meet business professionals representing products and services in a relaxed\, social setting.</p>\n
LOCATION:Inverness Country Club #1 Country Club Dr.\, Birmingham 35242
UID:e.145.4651
SEQUENCE:3
DTSTAMP:20260424T103144Z
URL:https://business.shelbychamber.org/events/details/greater-shelby-chamber-business-after-hours-inverness-country-club-07-16-2013-4651
END:VEVENT

END:VCALENDAR
