BEGIN:VCALENDAR
VERSION:2.0
PRODID:-//ChamberMaster//Event Calendar 2.0//EN
METHOD:PUBLISH
X-PUBLISHED-TTL:P3D
REFRESH-INTERVAL:P3D
CALSCALE:GREGORIAN
BEGIN:VEVENT
DTSTART:20110915T223000Z
DTEND:20110916T003000Z
X-MICROSOFT-CDO-ALLDAYEVENT:FALSE
SUMMARY:Greater Shelby Chamber ~ Business After Hours Parc at Cahaba River
DESCRIPTION:Join us for a Business After Hours at Parc at Cahaba River.  The Greater Shelby County\, Mountainbrook\, and Vestavia Chambers of Commerce are joining together in celebration for a night of networking fun at Parc at Cahaba River.\n\n	\n\n	This event will be held by the pool\, include members from all Chambers and residents too.  There will be door prizes\, business to business networking\, and mingling\, plus a myriad of food\, refreshments and entertainment.\n\n	 \n\n	Business After Hours events are premier networking opportunities\, offering members and guests the chance to meet business professionals representing products and services in a relaxed\, social setting.
X-ALT-DESC;FMTTYPE=text/html:<div>\n	<span style="font-size: 12px\;"><span style="font-family: arial\;">Join us for a <a href="http://www.shelbychamber.org/default.asp?ID=109">Business After Hours</a> at Parc at Cahaba River.&nbsp\; The Greater Shelby County\, Mountainbrook\, and Vestavia Chambers of Commerce are joining together in celebration for a night of networking fun at Parc at Cahaba River.<br />\n	<br />\n	This event will be held by the pool\, include members from all Chambers and residents too.&nbsp\; There will be door prizes\, business to business networking\, and mingling\, plus a myriad of food\, refreshments and entertainment.</span></span></div>\n<div>\n	&nbsp\;</div>\n<div>\n	<span style="font-size: 12px\;"><span style="font-family: arial\;"><a href="http://www.shelbychamber.org/default.asp?ID=109">Business After Hours</a> events are premier networking opportunities\, offering members and guests the chance to meet business professionals representing products and services in a relaxed\, social setting.</span></span></div>\n
LOCATION:Parc at Cahaba River 50 Cahaba River Parc Birmingham AL 35243 (205) 298-7277
UID:e.145.3506
SEQUENCE:3
DTSTAMP:20260425T201503Z
URL:https://business.shelbychamber.org/events/details/greater-shelby-chamber-business-after-hours-parc-at-cahaba-river-09-15-2011-3506
END:VEVENT

END:VCALENDAR
