BEGIN:VCALENDAR
VERSION:2.0
PRODID:-//ChamberMaster//Event Calendar 2.0//EN
METHOD:PUBLISH
X-PUBLISHED-TTL:P3D
REFRESH-INTERVAL:P3D
CALSCALE:GREGORIAN
BEGIN:VEVENT
DTSTART:20110623T220000Z
DTEND:20110624T000000Z
X-MICROSOFT-CDO-ALLDAYEVENT:FALSE
SUMMARY:Greater Shelby Chamber ~ Business After Hours with the Birmingham Barons!
DESCRIPTION:Join us for a Business After Hours on June 23rd out on the Piper Davis Porch from 5 pm until 7 pm at Regions Park and then enjoy watching the Birmingham Barons take on the Tennessee Smokies!\n\n\n\nThank you to Business Electronics for taking us out to the ballgame!  We couldn't offer these without the support of our sponsors.\n\n\n\nThe night will be full of FUN!  Check out what's in store for the evening after networking:\n\n\n\nFirst Pitch at 7:05 pm\n\n\n\n\n	Thirsty Thursday $1 Beverages\n\n	Presented by Budweiser\, Hooters\, 106.9 The Eagle\, Fox 6\n\n\n\n	 \n\n	Peanut Free Night\n\n	Presented by MBS\, Alabama Allergy & Asthma Center\n\n\n\n	 \n\n	80's Night\n\n	 \n\n	Pre-Game Concert Series\n\n	Presented by Redline Bar & Grill\n\n	 \n\n	No cost to attend but you must RSVP!\nRSVP required by noon\, Monday\, June 13th!  See ya at the ballgame! Bring plenty of business cards!
X-ALT-DESC;FMTTYPE=text/html:<br />\n<strong>Join us for a Business After Hours on June 23rd out on the Piper Davis Porch from 5 pm until 7 pm at Regions Park<em> and then enjoy watching the <a href="http://birmingham.barons.milb.com/index.jsp?sid=t247">Birmingham Barons</a> take on the Tennessee Smokies!</em></strong><br />\n<br />\nThank you to <a href="http://businesselectronics.com/">Business Electronics</a> for taking us out to the ballgame!&nbsp\; We couldn&#39\;t offer these without the support of our sponsors.<br />\n<br />\nThe night will be full of FUN!&nbsp\; Check out what&#39\;s in store for the evening after networking:<br />\n<br />\n<strong>First Pitch</strong> at 7:05 pm<br />\n<br />\n<div>\n	<strong>Thirsty Thursday</strong> $1 Beverages</div>\n<div>\n	Presented by Budweiser\, Hooters\, 106.9 The Eagle\, Fox 6</div>\n<br />\n<div class="tlink" style="float: right\;">\n	&nbsp\;</div>\n<div>\n	<strong>Peanut Free Night</strong></div>\n<div>\n	Presented by MBS\, Alabama Allergy &amp\; Asthma Center</div>\n<br />\n<div class="tlink" style="float: right\;">\n	&nbsp\;</div>\n<div>\n	<strong>80&#39\;s Night</strong><br />\n	&nbsp\;</div>\n<div>\n	<strong>Pre-Game Concert Series</strong></div>\n<div>\n	Presented by Redline Bar &amp\; Grill<br />\n	&nbsp\;</div>\n<div>\n	<strong>No cost to attend but you must RSVP!</strong></div>\n<span style="color: rgb(255\, 0\, 0)\;"><strong>RSVP required by noon\, Monday\, June 13th!&nbsp\; </strong></span><strong>See ya at the ballgame! </strong><em>Bring plenty of business cards!</em>
LOCATION:Birmingham Barons\, Regions Park\, 100 Ben Chapman Drive\, Hoover 35244
UID:e.145.3399
SEQUENCE:3
DTSTAMP:20260426T005938Z
URL:https://business.shelbychamber.org/events/details/greater-shelby-chamber-business-after-hours-with-the-birmingham-barons-06-23-2011-3399
END:VEVENT

END:VCALENDAR
