BEGIN:VCALENDAR
VERSION:2.0
PRODID:-//ChamberMaster//Event Calendar 2.0//EN
METHOD:PUBLISH
X-PUBLISHED-TTL:P3D
REFRESH-INTERVAL:P3D
CALSCALE:GREGORIAN
BEGIN:VEVENT
DTSTART:20130416T124500Z
DTEND:20130416T183000Z
X-MICROSOFT-CDO-ALLDAYEVENT:FALSE
SUMMARY:Greater Shelby Chamber ~ Business Basics for Great Managers
DESCRIPTION:Don't miss your opportunity to attend "Business Basics for Great Managers" being held at the Greater Shelby County Chamber office from 7:45AM until 1:30PM on April 16.  This is a hands-on\, interactive workshop that will allow you to implement tried and true management techniques learned by the conclusion of the workshop!\n\n\n\nBusiness Basics for Great Managers Workshop\n\nGreater Shelby County Chamber of Commerce\n\n1301 County Services Drive\, Pelham\n\nTuesday\, April 16\n\n7:45AM until 1:30PM\n\nInvestment: $50 for members\, $75 future members\n\nRSVP required by Friday\, April 12\n\nRSVP Online Here.\n\n\n\nThe workshop\, facilitated by Michael Smith\, TheGREATtheGOODandtheGONE\, will cover key topic points such as:\n\n\n	\n		Greatness is simple - it just isn't easy\n	\n		Communication is EVERYTHING\n	\n		Management is Measurement\n	\n		Time Manager Techniques\n\nWorkshop includes workbook with an action plan.  Individual coaching available for implementation plan after workshop. Lunch is included.\n\n\n\nReply to this email\, call the Chamber office at 663-4542\, or register online.  The Chamber accepts American Express\, Discover\, M/C\, Visa\, check\, and cash.  Future members must prepay for workshops.
X-ALT-DESC;FMTTYPE=text/html:<span style="font-size:12px\;"><span style="font-family: arial\;">Don&#39\;t miss your opportunity to attend &quot\;<strong>Business Basics for Great Managers</strong>&quot\; being held at the Greater Shelby County Chamber office from 7:45AM until 1:30PM on April 16.&nbsp\; This is a hands-on\, interactive workshop that will allow you to implement tried and true management techniques learned by the conclusion of the workshop!<br />\n<br />\n<strong>Business Basics for Great Managers Workshop</strong><br />\nGreater Shelby County Chamber of Commerce<br />\n1301 County Services Drive\, Pelham<br />\nTuesday\, April 16<br />\n7:45AM until 1:30PM<br />\nInvestment: $50 for members\, $75 future members<br />\nRSVP required by Friday\, April 12<br />\nRSVP Online Here.<br />\n<br />\nThe workshop\, facilitated by Michael Smith\, TheGREATtheGOODandtheGONE\, will cover key topic points such as:</span></span><br />\n<ul>\n	<li style="line-height:normal\;">\n		<span style="font-size:12px\;"><span style="font-family: arial\;">Greatness is simple - it just isn&#39\;t easy</span></span></li>\n	<li style="line-height:normal\;">\n		<span style="font-size:12px\;"><span style="font-family: arial\;">Communication is EVERYTHING</span></span></li>\n	<li style="line-height:normal\;">\n		<span style="font-size:12px\;"><span style="font-family: arial\;">Management is Measurement</span></span></li>\n	<li style="line-height:normal\;">\n		<span style="font-size:12px\;"><span style="font-family: arial\;">Time Manager Techniques</span></span></li>\n</ul>\n<span style="font-size:12px\;"><span style="font-family: arial\;">Workshop includes workbook with an action plan.&nbsp\; Individual coaching available for implementation plan after workshop. Lunch is included.<br />\n<br />\nReply to this email\, call the Chamber office at 663-4542\, or register online.&nbsp\; The Chamber accepts American Express\, Discover\, M/C\, Visa\, check\, and cash.&nbsp\; Future members must prepay for workshops.</span></span><br />\n
LOCATION:Greater Shelby Chamber 1301 County Services Drive\, Pelham (205) 663-4542
UID:e.145.4572
SEQUENCE:3
DTSTAMP:20260424T134700Z
URL:https://business.shelbychamber.org/events/details/greater-shelby-chamber-business-basics-for-great-managers-04-16-2013-4572
END:VEVENT

END:VCALENDAR
