BEGIN:VCALENDAR
VERSION:2.0
PRODID:-//ChamberMaster//Event Calendar 2.0//EN
METHOD:PUBLISH
X-PUBLISHED-TTL:P3D
REFRESH-INTERVAL:P3D
CALSCALE:GREGORIAN
BEGIN:VEVENT
DTSTART:20130524T020000Z
DTEND:20130524T040000Z
X-MICROSOFT-CDO-ALLDAYEVENT:FALSE
SUMMARY:Greater Shelby Chamber ~ "Capital Access" Seminar
DESCRIPTION:Are You Ready to Start Your Own Business?  Are You Thinking of Expanding Your Business?  Save the date and plan to attend the Greater Shelby Chamber's Capital Access Seminar.\n\n\n\nRoderick D. Perkins with the Small Business Administration (SBA) will be presenting:\n\nHow the programs at the SBA can help your business plans become a reality.\n\nWhat are the various types of business license requirements?\n\nWhat is a Tax ID# and why do I need one?\n\nWhat type of legal structure does my business need?\n\nHow to write a Business Plan.\n\nHow do I obtain financing for my business?\n\nHow the SBA prepares small businesses to connect with bankers.\n\n\n\nSeminar presented by the Chamber Business Support Center and sponsored by Charter Business.\n\n\n\nSpace is limited. Early registration is encouraged.\n\nTo register call the Chamber at 663-4542\, email Brooke Story at brooke@shelbychamber.org or click above to register online.
X-ALT-DESC;FMTTYPE=text/html:<em><strong>Are You Ready to Start Your Own Business?&nbsp\; Are You Thinking of Expanding Your Business?</strong></em>&nbsp\; Save the date and plan to attend the Greater Shelby Chamber&#39\;s Capital Access Seminar.<br />\n<br />\nRoderick D. Perkins with the Small Business Administration (SBA) will be presenting:<br />\nHow the programs at the SBA can help your business plans become a reality.<br />\nWhat are the various types of business license requirements?<br />\nWhat is a Tax ID# and why do I need one?<br />\nWhat type of legal structure does my business need?<br />\nHow to write a Business Plan.<br />\nHow do I obtain financing for my business?<br />\nHow the SBA prepares small businesses to connect with bankers.<br />\n<br />\nSeminar presented by the Chamber Business Support Center and sponsored by <a href="http://www.charterbusiness.com/">Charter Business</a>.<br />\n<br />\nSpace is limited. Early registration is encouraged.<br />\nTo register call the Chamber at 663-4542\, email Brooke Story at <a href="mailto:brooke@shelbychamber.org?subject=CAPITAL%20ACCESS%20SEMINAR">brooke@shelbychamber.org</a> or click above to register online.
LOCATION:Greater Shelby County Chamber of Commerce 1301 County Services Drive\, Pelham
UID:e.145.4586
SEQUENCE:3
DTSTAMP:20260424T120255Z
URL:https://business.shelbychamber.org/events/details/greater-shelby-chamber-capital-access-seminar-05-23-2013-4586
END:VEVENT

END:VCALENDAR
