BEGIN:VCALENDAR
VERSION:2.0
PRODID:-//ChamberMaster//Event Calendar 2.0//EN
METHOD:PUBLISH
X-PUBLISHED-TTL:P3D
REFRESH-INTERVAL:P3D
CALSCALE:GREGORIAN
BEGIN:VEVENT
DTSTART:20111213T143000Z
DTEND:20111213T160000Z
X-MICROSOFT-CDO-ALLDAYEVENT:FALSE
SUMMARY:Greater Shelby Chamber ~ Chamber Works
DESCRIPTION:Chamber Works (formerly New Member Orientation) is held every other month\, typically at the Chamber office. Chamber Works offers new members and new employees of existing members an opportunity to learn firsthand the many benefits of Chamber membership. Chamber Works will inform you of the best way to maximize the benefits and services of Chamber membership and get you up to speed with current happenings.\n\n	 \n\n	The Greater Shelby County Chamber of Commerce strongly encourages finding your niche through involvement. Participation is the key in making your membership work for you! There is no cost to attend but you must RSVP to be guaranteed a seat.  Bring plenty of business cards!\n\n	 \n\n	Chamber Works is made possible by the Continual Sponsorship of Cahaba Valley Computer Services\, LLC and Minuteman Press of Alabaster.\n\n	 \n\n	The programs and events we offer wouldn't be possible without the support of our sponsors!
X-ALT-DESC;FMTTYPE=text/html:<div>\n	<a href="http://www.shelbychamber.org/default.asp?ID=37">Chamber Works (formerly New Member Orientation</a>) is held every other month\, typically at the Chamber office. Chamber Works offers new members and new employees of existing members an opportunity to learn firsthand the many benefits of Chamber membership. <a href="http://www.shelbychamber.org/default.asp?ID=37">Chamber Works</a> will inform you of the best way to maximize the benefits and services of Chamber membership and get you up to speed with current happenings.<br />\n	&nbsp\;<br />\n	The Greater Shelby County Chamber of Commerce strongly encourages finding your niche through involvement. Participation is the key in making your membership work for you! <em><strong>There is no cost to attend but you must RSVP to be guaranteed a seat</strong></em>.&nbsp\; Bring plenty of business cards!</div>\n<div>\n	&nbsp\;</div>\n<div>\n	<a href="http://www.shelbychamber.org/default.asp?ID=37">Chamber Works</a> is made possible by the Continual Sponsorship of <a href="http://www.cvcsllc.com/">Cahaba Valley Computer Services\, LLC</a> and <a href="http://www.alabaster.minutemanpress.com/">Minuteman Press of Alabaster</a>.</div>\n<div>\n	&nbsp\;</div>\n<div>\n	The programs and events we offer wouldn&rsquo\;t be possible without the support of our sponsors!</div>\n
LOCATION:Greater Shelby Chamber\, 1301 County Services Drive\, Pelham\, AL 35124
UID:e.145.3612
SEQUENCE:3
DTSTAMP:20260425T153129Z
URL:https://business.shelbychamber.org/events/details/greater-shelby-chamber-chamber-works-12-13-2011-3612
END:VEVENT

END:VCALENDAR
