BEGIN:VCALENDAR
VERSION:2.0
PRODID:-//ChamberMaster//Event Calendar 2.0//EN
METHOD:PUBLISH
X-PUBLISHED-TTL:P3D
REFRESH-INTERVAL:P3D
CALSCALE:GREGORIAN
BEGIN:VEVENT
DTSTART:20111101T133000Z
DTEND:20111101T143000Z
X-MICROSOFT-CDO-ALLDAYEVENT:FALSE
SUMMARY:Greater Shelby Chamber ~ City Focus Columbiana at the Shelby County Courthouse
DESCRIPTION:Join us for our City Focus on Columbiana at the Shelby County Courthouse & Shelby County Historical Society.\n\n\n\nMeet our host: \n\n	The Shelby County Historical Society is located in the Old Shelby County Courthouse\, built in 1854 in Columbiana\, Alabama. This building has been designated a historic landmark by the National Register of Historic Places.\n\n	\n\n	The Museum displays many old Shelby County photographs and artifacts from the Indian era through WWII\; including such items as the bell from the Alabama\, a well-known railroad engine during its time\, Creek Indian artifacts\, the 1906 Shelby County Courthouse cornerstone contents removed 24th June 2006\, and three chestnut wood cars and several feet of wood track that were found on the 4th May 1974 in the forgotten Confederate Gurnee Coal Mine in West Shelby County.\n\n	\n\n	No cost or RSVP required. Bring plenty of business cards!\n\n	\n\n	City Focus are typically scheduled the first and third Tuesday of each month from 8:30 a.m. until 9:30 a.m. and are informal gatherings designed to network with fellow Chamber members\, and listen as city officials or a special guest\, gives a brief update of developments in that particular area.
X-ALT-DESC;FMTTYPE=text/html:Join us for our City Focus on <a href="http://www.cityofcolumbiana.com/Default.asp">Columbiana</a> at the <a href="http://www.rootsweb.ancestry.com/~alshelby/schs.html">Shelby County Courthouse &amp\; Shelby County Historical Society</a>.<br />\n<br />\nMeet our host:&nbsp\;\n<p>\n	The <a href="http://www.rootsweb.ancestry.com/~alshelby/schs.html">Shelby County Historical Society</a> is located in the Old Shelby County Courthouse\, built in 1854 in Columbiana\, Alabama. This building has been designated a historic landmark by the National Register of Historic Places.<br />\n	<br />\n	The Museum displays many old Shelby County photographs and artifacts from the Indian era through WWII\; including such items as the bell from the Alabama\, a well-known railroad engine during its time\, Creek Indian artifacts\, the 1906 Shelby County Courthouse cornerstone contents removed 24th June 2006\, and three chestnut wood cars and several feet of wood track that were found on the 4th May 1974 in the forgotten Confederate Gurnee Coal Mine in West Shelby County.<br />\n	<br />\n	No cost or RSVP required. <em>Bring plenty of business cards!</em><br />\n	<br />\n	<a href="http://www.shelbychamber.org/default.asp?ID=39">City Focus</a> are typically scheduled the&nbsp\;first and third&nbsp\;Tuesday of each month from 8:30 a.m. until 9:30 a.m. and are informal gatherings designed to network with fellow Chamber members\, and listen as city officials or a special guest\, gives a brief update of developments in that particular area.</p>\n
LOCATION:Shelby County Courthouse & Historical Society\, Incorporated 1854 Old Courthouse P.O. Box 457 Columbiana AL 35051 (205) 669-3912
UID:e.145.3535
SEQUENCE:3
DTSTAMP:20260425T184010Z
URL:https://business.shelbychamber.org/events/details/greater-shelby-chamber-city-focus-columbiana-at-the-shelby-county-courthouse-11-01-2011-3535
END:VEVENT

END:VCALENDAR
