BEGIN:VCALENDAR
VERSION:2.0
PRODID:-//ChamberMaster//Event Calendar 2.0//EN
METHOD:PUBLISH
X-PUBLISHED-TTL:P3D
REFRESH-INTERVAL:P3D
CALSCALE:GREGORIAN
BEGIN:VEVENT
DTSTART:20120807T133000Z
DTEND:20120807T143000Z
X-MICROSOFT-CDO-ALLDAYEVENT:FALSE
SUMMARY:Greater Shelby Chamber ~ City Focus Harpersville
DESCRIPTION:THIS EVENT HAS BEEN CANCELLED DUE TO A SCHEDULING CONFLICT. Greater Shelby County Chamber of Commerce for our Harpersville City Focus at Harpersville Town Hall.\n\n\n\n\n\n\n\nCity Focus are typically scheduled the first and third Tuesday of each month from 8:30 a.m. until 9:30 a.m. and are informal gatherings designed to network with fellow Chamber members\, and listen as city officials or a special guest\, gives a brief update of developments in that particular area.
X-ALT-DESC;FMTTYPE=text/html:<span style="color:#800000\;">THIS EVENT HAS BEEN CANCELLED DUE TO A SCHEDULING CONFLICT.</span> Greater Shelby County Chamber of Commerce for our Harpersville City Focus at Harpersville Town Hall.<br />\n<br />\n<br />\n<br />\n<a href="http://www.shelbychamber.org/default.asp?ID=39">City Focus</a> are typically scheduled the&nbsp\;first and third&nbsp\;Tuesday of each month from 8:30 <span>a.m</span>. until 9:30 <span>a.m</span>. and are informal gatherings designed to network with fellow Chamber members\, and listen as city officials or a special guest\, gives a brief update of developments in that particular area.
LOCATION:Harpersville Town Hall 83 Town Hall Ln. Harpersville\, AL 35078
UID:e.145.4274
SEQUENCE:3
DTSTAMP:20260425T024934Z
URL:https://business.shelbychamber.org/events/details/greater-shelby-chamber-city-focus-harpersville-08-07-2012-4274
END:VEVENT

END:VCALENDAR
