BEGIN:VCALENDAR
VERSION:2.0
PRODID:-//ChamberMaster//Event Calendar 2.0//EN
METHOD:PUBLISH
X-PUBLISHED-TTL:P3D
REFRESH-INTERVAL:P3D
CALSCALE:GREGORIAN
BEGIN:VEVENT
DTSTART:20111018T133000Z
DTEND:20111018T143000Z
X-MICROSOFT-CDO-ALLDAYEVENT:FALSE
SUMMARY:Greater Shelby Chamber ~ City Focus Pelham Fairfield Inn & Suites
DESCRIPTION:Join us for our City Focus Pelham at Fairfield Inn & Suites by Marriott.\n\n\n\nAt the Fairfield Inn & Suites by Marriott in Pelham\, we welcome you to a place where Southern charm and hospitality are immeasurable. Convenient to Oak Mountain State Park\, near the Pelham Civic Complex and Verizon Wireless Music Center.\n\n\n\nWe take pride in providing outstanding service and superb accommodations. Only minutes from Birmingham\, Hoover\, UAB\, University of Montevallo\, Samford University\, American Village\, Vulcan Park\, Hoover Met\, and the fabulous Riverchase Galleria and Patton Creek Malls. You will enjoy your stay whether here for work or play.\n\n\n\nFrom the exciting Alabama Adventure Amusement Park to the serene Aldridge Gardens\, Ballantrae Golf Course and several other golf courses near by. Conveniently located near the Pelham Racquet Tennis Club and Oak Mountain State Park ... there is something here for everyone!\n\n\n\nNo cost or RSVP required. Bring plenty of business cards!\n\n\n\nCity Focus events are typically scheduled the first and third Tuesday of each month from 8:30 a.m. until 9:30 a.m. and are informal gatherings designed to network with fellow Chamber members\, and listen as city officials or a special guest\, gives a brief update of developments in that particular area.
X-ALT-DESC;FMTTYPE=text/html:Join us for our City Focus Pelham at <a href="http://www.marriott.com/hotels/travel/bhmfp-fairfield-inn-and-suites-birmingham-pelham-i-65/">Fairfield Inn &amp\; Suites by Marriott</a>.<br />\n<br />\nAt the <a href="http://www.marriott.com/hotels/travel/bhmfp-fairfield-inn-and-suites-birmingham-pelham-i-65/">Fairfield Inn &amp\; Suites by Marriott</a> in Pelham\, we welcome you to a place where Southern charm and hospitality are immeasurable. Convenient to Oak Mountain State Park\, near the Pelham Civic Complex and Verizon Wireless Music Center.<br />\n<br />\nWe take pride in providing outstanding service and superb accommodations. Only minutes from Birmingham\, Hoover\, UAB\, University of Montevallo\, Samford University\, American Village\, Vulcan Park\, Hoover Met\, and the fabulous Riverchase Galleria and Patton Creek Malls. You will enjoy your stay whether here for work or play.<br />\n<br />\nFrom the exciting Alabama Adventure Amusement Park to the serene Aldridge Gardens\, Ballantrae Golf Course and several other golf courses near by. Conveniently located near the Pelham Racquet Tennis Club and Oak Mountain State Park ... there is something here for everyone!<br />\n<br />\nNo cost or RSVP required. Bring plenty of business cards!<br />\n<br />\n<span class="cm_editor_fix"><a href="http://www.shelbychamber.org/default.asp?ID=39">City Focus</a> events are typically scheduled the first and third Tuesday of each month from 8:30 a.m. until 9:30 a.m. and are informal gatherings designed to network with fellow Chamber members\, and listen as city officials or a special guest\, gives a brief update of developments in that particular area.</span>
LOCATION:Fairfield Inn & Suites by Marriott 230 Cahaba Valley Road Pelham AL 35124 (205) 987-9879
UID:e.145.3534
SEQUENCE:3
DTSTAMP:20260425T183407Z
URL:https://business.shelbychamber.org/events/details/greater-shelby-chamber-city-focus-pelham-fairfield-inn-suites-10-18-2011-3534
END:VEVENT

END:VCALENDAR
