BEGIN:VCALENDAR
VERSION:2.0
PRODID:-//ChamberMaster//Event Calendar 2.0//EN
METHOD:PUBLISH
X-PUBLISHED-TTL:P3D
REFRESH-INTERVAL:P3D
CALSCALE:GREGORIAN
BEGIN:VEVENT
DTSTART:20120904T133000Z
DTEND:20120904T143000Z
X-MICROSOFT-CDO-ALLDAYEVENT:FALSE
SUMMARY:Greater Shelby Chamber ~ City Focus Shelby Oral Facial Surgery
DESCRIPTION:Join us for our City Focus Alabaster at Shelby Oral Facial Surgery\, 420 1st Street North.\n\n	\n\n	Meet our host: \n\n	\n\n	Shelby Oral Facial Surgery\n\n	\n\n	Oral & Maxillofacial Surgeons\, N. Ryan Livingston\, DMD\, MD \, and Joshua E. Everts\, DDS\, MD \,  practice the full scope of Oral and Maxillofacial Surgery with expertise ranging from corrective jaw surgery to wisdom tooth removal. The doctors can also diagnose and treat facial injuries requiring reconstructive surgery\, corrective sleep apnea surgery and perform a full range of dental implant and bone grafting procedures.\n\n	\n\n	Shelby Oral Facial Sugery's staff is trained in assisting with I.V. sedation within our state of the art office facility.\n\n	\n\n	Our office is located at 420 1st Street North\, Alabaster\, AL\, 35007.\n\n	\n\n	 Call us at 205-208-0167 to schedule an appointment today.\n\n	 \n\n	Dental Implants\n\n	\n\n	Dental implants are designed to provide a foundation for replacement teeth that look\, feel\, and function like natural teeth. The person who has lost teeth regains the ability to eat virtually anything and can smile with confidence\, knowing that teeth appear natural and that facial contours will be preserved.\n\n	\n\n	Dental implants are changing the way people live. With them\, people are rediscovering the comfort and confidence to eat\, speak\, laugh and enjoy life. For more information about dental implants or to schedule a consultation appointment\, call our office in Alabaster\, AL at 205-208-0167.\n\n	No cost or RSVP required. Bring plenty of business cards!\n\n	\n\n	City Focus Meetings are typically scheduled the first and third Tuesday of each month from 8:30 a.m. until 9:30 a.m. and are informal gatherings designed to network with fellow Chamber members\, and listen as city officials or a special guest\, gives a brief update of developments in that particular area.
X-ALT-DESC;FMTTYPE=text/html:<p>\n	<span style="font-size:10px\;"><span style="font-family: arial\;">Join us for our City Focus&nbsp\;Alabaster at Shelby Oral Facial Surgery\, 420 1st Street North.<br />\n	<br />\n	Meet our host:&nbsp\;<br />\n	<br />\n	<a href="http://www.shelbyofs.com/">Shelby Oral Facial Surgery</a><br />\n	<br />\n	Oral &amp\; Maxillofacial Surgeons\, N. Ryan Livingston\, DMD\, MD \, and Joshua E. Everts\, DDS\, MD \,&nbsp\; practice the full scope of Oral and Maxillofacial Surgery with expertise ranging from corrective jaw surgery to wisdom tooth removal. The doctors can also diagnose and treat facial injuries requiring reconstructive surgery\, corrective sleep apnea surgery and perform a full range of dental implant and bone grafting procedures.<br />\n	<br />\n	Shelby Oral Facial Sugery&rsquo\;s staff is trained in assisting with I.V. sedation within our state of the art office facility.<br />\n	<br />\n	Our office is located at 420 1st Street North\, Alabaster\, AL\, 35007.</span></span><br />\n	<br />\n	<span style="font-size:10px\;"><span style="font-family: arial\;"> Call us at 205-208-0167 to schedule an appointment today.<br />\n	&nbsp\;<br />\n	Dental Implants<br />\n	<br />\n	Dental implants are designed to provide a foundation for replacement teeth that look\, feel\, and function like natural teeth. The person who has lost teeth regains the ability to eat virtually anything and can smile with confidence\, knowing that teeth appear natural and that facial contours will be preserved.<br />\n	<br />\n	Dental implants are changing the way people live. With them\, people are rediscovering the comfort and confidence to eat\, speak\, laugh and enjoy life. For more information about dental implants or to schedule a consultation appointment\, call our office in Alabaster\, AL at 205-208-0167.</span></span></p>\n<p>\n	<span style="font-family: arial\;">No cost or RSVP required. <em>Bring plenty of business cards!</em><br />\n	<br />\n	<a href="http://www.shelbychamber.org/default.asp?ID=39">City Focus Meetings</a> are typically scheduled the&nbsp\;first and third&nbsp\;Tuesday of each month from 8:30 a.m. until 9:30 a.m. and are informal gatherings designed to network with fellow Chamber members\, and listen as city officials or a special guest\, gives a brief update of developments in that particular area.</span></p>\n
LOCATION:Shelby Oral Facial Surgery\, PC 420 1st Street North Alabaster\, AL 35007 205-208-0167
UID:e.145.4359
SEQUENCE:3
DTSTAMP:20260425T011557Z
URL:https://business.shelbychamber.org/events/details/greater-shelby-chamber-city-focus-shelby-oral-facial-surgery-09-04-2012-4359
END:VEVENT

END:VCALENDAR
