BEGIN:VCALENDAR
VERSION:2.0
PRODID:-//ChamberMaster//Event Calendar 2.0//EN
METHOD:PUBLISH
X-PUBLISHED-TTL:P3D
REFRESH-INTERVAL:P3D
CALSCALE:GREGORIAN
BEGIN:VEVENT
DTSTART:20121002T133000Z
DTEND:20121002T143000Z
X-MICROSOFT-CDO-ALLDAYEVENT:FALSE
SUMMARY:Greater Shelby Chamber ~ City Focus Wilton
DESCRIPTION:Join the Greater Shelby County Chamber of Commerce for the City Focus on the Town of Wilton at the Community Center\, 260 Church Street Wilton\, AL 35187.\n\n\n\nLearn more about our host - Town of Wilton\, Alabama!\n\n\n\nWilton is located in the south western section of Shelby County and approximately 40 miles south of Birmingham.\n\n\n\nBrief History of The Town of Wilton\n\n\n\nIn 1936\, Wilton was a small town with a big need. It needed water. The town population of approximately 562 had almost run out of water thanks to an extremely dry summer. During this time\, the town of Wilton had no water system. They had to rely on wells\, cisterns\, and rain barrels. The mayor wrote a letter asking for assistance from the PWA. By the Spring of 1937\, the town had their own pump house and a 100\,000 gallon storage tank. Everyone in Wilton benefited from this project.\n\n\n\nCity Focus are typically scheduled the first and third Tuesday of each month from 8:30 a.m. until 9:30 a.m. and are informal gatherings designed to network with fellow Chamber members\, and listen as city officials or a special guest\, gives a brief update of developments in that particular area.
X-ALT-DESC;FMTTYPE=text/html:<span style="font-size:12px\;"><span style="font-family: arial\;">Join the Greater Shelby County Chamber of Commerce for the City Focus on the <a href="http://www.wiltonalabama.com/">Town of Wilton</a> at the<font class="size10 Helvetica10" color="#000000"> Community Center\, </font><font class="size10 Helvetica10" color="#000000">260 Church Street&nbsp\;</font><font class="size10 Helvetica10" color="#000000">Wilton\, AL 35187</font>.<br />\n<br />\nLearn more about our host - Town of Wilton\, Alabama!<br />\n<br />\nWilton is located in the south western section of Shelby County and approximately 40 miles south of Birmingham.<br />\n<br />\nBrief History of The Town of Wilton<br />\n<br />\nIn 1936\, Wilton was a small town with a big need. It needed water. The town population of approximately 562 had almost run out of water thanks to an extremely dry summer. During this time\, the town of Wilton had no water system. They had to rely on wells\, cisterns\, and rain barrels. The mayor wrote a letter asking for assistance from the PWA. By the Spring of 1937\, the town had their own pump house and a 100\,000 gallon storage tank. Everyone in Wilton benefited from this project.<br />\n<br />\n<a href="http://www.shelbychamber.org/default.asp?ID=39">City Focus</a> are typically scheduled the&nbsp\;first and third&nbsp\;Tuesday of each month from 8:30 <span>a.m</span>. until 9:30 <span>a.m</span>. and are informal gatherings designed to network with fellow Chamber members\, and listen as city officials or a special guest\, gives a brief update of developments in that particular area.</span></span>
LOCATION:Community Center 260 Church Street Wilton\, AL 35187
UID:e.145.4399
SEQUENCE:3
DTSTAMP:20260424T233447Z
URL:https://business.shelbychamber.org/events/details/greater-shelby-chamber-city-focus-wilton-10-02-2012-4399
END:VEVENT

END:VCALENDAR
