BEGIN:VCALENDAR
VERSION:2.0
PRODID:-//ChamberMaster//Event Calendar 2.0//EN
METHOD:PUBLISH
X-PUBLISHED-TTL:P3D
REFRESH-INTERVAL:P3D
CALSCALE:GREGORIAN
BEGIN:VEVENT
DTSTART:20160315T223000Z
DTEND:20160316T000000Z
X-MICROSOFT-CDO-ALLDAYEVENT:FALSE
SUMMARY:Greater Shelby Chamber - Coal Yard Hosts March Business After Hours!
DESCRIPTION:Coal Yard Hosts March Business After Hours!\n\n\n\nMark your calendar for Tuesday\, March 15 & join us at Coal Yard\, 4085 Helena Road in Helena from 5:30PM until 7:00PM for Shelby County's best after hours networking event!\n\n\n\nThe Chamber's quarterly Business After Hours   presented in 2016 by Shelby County Newspapers -- are a great way to make new business contacts   & have fun while you're doing it! The cost to attend is affordable   only $10 for Chamber members ($20 for "Future" members)   & includes hot\, heavy hors d'oeuvres & two complimentary beverages (soft drinks\, beer or wine) of your choice.\n\n\n\nAdvance reservations are requested by March 11. Contact the Chamber by phone at 663-4542\, info@shelbychamber.org or register online.\n\n\n\nBusiness After Hours events are premier networking opportunities\, offering investors and guests the chance to meet business professionals representing products and services in a relaxed\, social setting. Investors attending have an opportunity to exchange business cards and become acquainted with other businesses throughout the community.  Bring plenty of business cards!
X-ALT-DESC;FMTTYPE=text/html:<strong>Coal Yard Hosts March Business After Hours!</strong><br />\n<br />\nMark your calendar for Tuesday\, March 15 &amp\; join us at Coal Yard\, 4085 Helena Road in Helena from 5:30PM until 7:00PM for Shelby County&rsquo\;s best after hours networking event!<br />\n<br />\nThe Chamber&rsquo\;s quarterly Business After Hours &ndash\; presented in 2016 by Shelby County Newspapers -- are a great way to make new business contacts &ndash\; &amp\; have fun while you&rsquo\;re doing it! The cost to attend is affordable &ndash\; only $10 for Chamber members ($20 for &ldquo\;Future&rdquo\; members) &ndash\; &amp\; includes hot\, heavy hors d&rsquo\;oeuvres &amp\; two complimentary beverages (soft drinks\, beer or wine) of your choice.<br />\n<br />\nAdvance reservations are requested by March 11. Contact the Chamber by phone at 663-4542\, info@shelbychamber.org or register online.<br />\n<br />\n<a href="http://www.shelbychamber.org/default.asp?ID=109">Business After Hours</a> events are premier networking opportunities\, offering investors and guests the chance to meet business professionals representing products and services in a relaxed\, social setting. Investors attending have an opportunity to exchange business cards and become acquainted with other businesses throughout the community.&nbsp\; <em>Bring plenty of business cards!</em>
LOCATION:Coal Yard 4085 Helena Road Helena\, AL 35080
UID:e.145.8395
SEQUENCE:3
DTSTAMP:20260422T075246Z
URL:https://business.shelbychamber.org/events/details/greater-shelby-chamber-coal-yard-hosts-march-business-after-hours-03-15-2016-8395
END:VEVENT

END:VCALENDAR
