BEGIN:VCALENDAR
VERSION:2.0
PRODID:-//ChamberMaster//Event Calendar 2.0//EN
METHOD:PUBLISH
X-PUBLISHED-TTL:P3D
REFRESH-INTERVAL:P3D
CALSCALE:GREGORIAN
BEGIN:VEVENT
DTSTART:20140304T143000Z
DTEND:20140304T153000Z
X-MICROSOFT-CDO-ALLDAYEVENT:FALSE
SUMMARY:Greater Shelby Chamber ~ Coffee Net
DESCRIPTION:Greater Shelby Chamber Coffee Net\n\n\n\nThe Greater Shelby County Chamber of Commerce is holding a Coffee Net meeting at our host member business\, Verizon Wireless 280.  Coffee Net is designed to give members an opportunity for morning networking\, light refreshments and the host business to address attendees of current offerings.\n\n\n\nJoin us for our first Coffee Net on March 4 from 8:30AM until 9:30AM.  Bring plenty of business cards!\n\n\n\nNOTE:  Verizon Wireless 280 is located in front of the Walmart on 280.  There is a shopping center to the right on the hill.  To get to the shopping center you will turn like you are heading to Walmart and take the side road to the shopping center located to the right.  Verizon Wireless is the corner store on the right.  Call Abdul Lanier\, Store Manager at 410-6012 if you need additional directions.
X-ALT-DESC;FMTTYPE=text/html:<span class="cm_editor_fix"><strong>Greater Shelby Chamber Coffee Net</strong><br />\n<br />\nThe Greater Shelby County Chamber of Commerce is holding a Coffee Net meeting at our host member business\, Verizon Wireless 280.&nbsp\; Coffee Net is designed to give members an opportunity for morning networking\, light refreshments and the host business to address attendees of current offerings.<br />\n<br />\nJoin us for&nbsp\;our first Coffee Net on March 4 from 8:30AM until 9:30AM.&nbsp\; Bring plenty of business cards!</span><br />\n<br />\nNOTE:&nbsp\; Verizon Wireless 280 is located in front of the Walmart on 280.&nbsp\; There is a shopping center to the right on the hill.&nbsp\; To get to the shopping center you will turn like you are heading to Walmart and take the side road to the shopping center located to the right.&nbsp\; Verizon Wireless is the corner store on the right.&nbsp\; Call Abdul Lanier\, Store Manager at 410-6012 if you need additional directions.
LOCATION:Verizon Wireless 280 Store 5363 Highway 280 S\, Suite 100B Birmingham\, AL 35242
UID:e.145.5038
SEQUENCE:3
DTSTAMP:20260423T212910Z
URL:https://business.shelbychamber.org/events/details/greater-shelby-chamber-coffee-net-03-04-2014-5038
END:VEVENT

END:VCALENDAR
