BEGIN:VCALENDAR
VERSION:2.0
PRODID:-//ChamberMaster//Event Calendar 2.0//EN
METHOD:PUBLISH
X-PUBLISHED-TTL:P3D
REFRESH-INTERVAL:P3D
CALSCALE:GREGORIAN
BEGIN:VEVENT
DTSTART:20140611T133000Z
DTEND:20140611T143000Z
X-MICROSOFT-CDO-ALLDAYEVENT:FALSE
SUMMARY:Greater Shelby Chamber - Coffee Net
DESCRIPTION:Greater Shelby Chamber Coffee Net at Kai's Koffee\n\n\n\nThe Greater Shelby County Chamber of Commerce is holding a Coffee Net meeting at our host member business\, Kai's Koffee in Pelham (behind Louie's Restaurant on Hwy 31).\n\n\n\nCoffee Net is designed to give members an opportunity for morning networking\, light refreshments and the host business to address attendees of current offerings.\n\n\n\nJoin us at Kai's Koffee House on June 11 from 8:30AM until 9:30AM.  Bring plenty of business cards!
X-ALT-DESC;FMTTYPE=text/html:<span class="cm_editor_fix"><strong>Greater Shelby Chamber Coffee Net at Kai&#39\;s Koffee</strong><br />\n<br />\nThe Greater Shelby County Chamber of Commerce is holding a Coffee Net meeting at our host member business\, Kai&#39\;s Koffee in Pelham (behind Louie&#39\;s Restaurant on Hwy 31).<br />\n<br />\nCoffee Net is designed to give members an opportunity for morning networking\, light refreshments and the host business to address attendees of current offerings.<br />\n<br />\nJoin us at Kai&#39\;s Koffee House on June 11 from 8:30AM until 9:30AM.&nbsp\; <em>Bring plenty of business cards!</em></span>
LOCATION:Kai's Koffee 2722A Chandalar Place Drive Pelham\, AL 35124 (205) 989-5857
UID:e.145.5497
SEQUENCE:3
DTSTAMP:20260423T151236Z
URL:https://business.shelbychamber.org/events/details/greater-shelby-chamber-coffee-net-06-11-2014-5497
END:VEVENT

END:VCALENDAR
