BEGIN:VCALENDAR
VERSION:2.0
PRODID:-//ChamberMaster//Event Calendar 2.0//EN
METHOD:PUBLISH
X-PUBLISHED-TTL:P3D
REFRESH-INTERVAL:P3D
CALSCALE:GREGORIAN
BEGIN:VEVENT
DTSTART:20151119T143000Z
DTEND:20151119T153000Z
X-MICROSOFT-CDO-ALLDAYEVENT:FALSE
SUMMARY:Greater Shelby Chamber - CoffeeNet at America's First Federal Credit Union Pelham
DESCRIPTION:Join the Chamber for "CoffeeNet" at America's First Federal Credit Union - Pelham\n\n\n\nBe sure to mark your calendar for Thursday\, November 19 and join us America's First Federal Credit Union\, 10 Racquet Club Parkway\, Pelham\, from 8:30AM until 9:30AM for CoffeeNet!  The morning meeting is designed for members to enjoy networking\, coffee\, and light refreshments -- all before heading to the office.\n\n\n\nCoffeeNet events\, sponsored by Business Telephones\, Inc.\, are a great way to make new business contacts so bring plenty of business cards. There is no cost to attend however reservations are requested by Wednesday\, November 18 to assist in preparation.\n\n\n\nPlease contact the Chamber by phone at 663-4542 or use Registration Online.
X-ALT-DESC;FMTTYPE=text/html:<strong>Join the Chamber for &quot\;CoffeeNet&quot\; at America&#39\;s First Federal Credit Union - Pelham</strong><br />\n<br />\nBe sure to mark your calendar for Thursday\, November 19 and join us America&#39\;s First Federal Credit Union\, 10 Racquet Club Parkway\, Pelham\, from 8:30AM until 9:30AM for CoffeeNet!&nbsp\; The morning meeting is designed for members to enjoy networking\, coffee\, and light refreshments -- all before heading to the office.<br />\n<br />\nCoffeeNet events\, sponsored by Business Telephones\, Inc.\, are a great way to make new business contacts so bring plenty of business cards. There is no cost to attend however reservations are requested by Wednesday\, November 18 to assist in preparation.<br />\n<br />\nPlease contact the Chamber by phone at 663-4542 or use Registration Online.
LOCATION:America's First Federal Credit Union of Pelham 10 Racquet Club Parkway Pelham\, AL 35124 (205) 663-1945
UID:e.145.7930
SEQUENCE:3
DTSTAMP:20260422T154743Z
URL:https://business.shelbychamber.org/events/details/greater-shelby-chamber-coffeenet-at-america-s-first-federal-credit-union-pelham-11-19-2015-7930
END:VEVENT

END:VCALENDAR
