BEGIN:VCALENDAR
VERSION:2.0
PRODID:-//ChamberMaster//Event Calendar 2.0//EN
METHOD:PUBLISH
X-PUBLISHED-TTL:P3D
REFRESH-INTERVAL:P3D
CALSCALE:GREGORIAN
BEGIN:VEVENT
DTSTART:20150409T133000Z
DTEND:20150409T143000Z
X-MICROSOFT-CDO-ALLDAYEVENT:FALSE
SUMMARY:Greater Shelby Chamber - CoffeeNet at Blue Phrog Art Gallery
DESCRIPTION:Greater Shelby Chamber CoffeeNet at Blue Phrog Art Gallery\n\n\n\nThe Greater Shelby County Chamber of Commerce is holding a CoffeeNet meeting at our host member business\, Blue Phrog Art Gallery Located on Main Street in Montevallo.\n\n\n\nCoffeeNet is designed to give members an opportunity for morning networking\, light refreshments and the host business to address attendees of current offerings.\n\n\n\nJoin us on April 9 from 8:30AM until 9:30AM.  Bring plenty of business cards!
X-ALT-DESC;FMTTYPE=text/html:<span class="cm_editor_fix"><strong>Greater Shelby Chamber CoffeeNet at Blue Phrog Art Gallery</strong><br />\n<br />\nThe Greater Shelby County Chamber of Commerce is holding a CoffeeNet meeting at our host member business\, Blue Phrog Art Gallery Located on Main Street in Montevallo.<br />\n<br />\nCoffeeNet is designed to give members an opportunity for morning networking\, light refreshments and the host business to address attendees of current offerings.<br />\n<br />\nJoin us on April 9 from 8:30AM until 9:30AM.&nbsp\; <em>Bring plenty of business cards!</em></span>
LOCATION:Blue Phrog Art Gallery 955 Main Street\, Montevallo\, AL 35115 665-3766
UID:e.145.7598
SEQUENCE:3
DTSTAMP:20260423T003340Z
URL:https://business.shelbychamber.org/events/details/greater-shelby-chamber-coffeenet-at-blue-phrog-art-gallery-04-09-2015-7598
END:VEVENT

END:VCALENDAR
