BEGIN:VCALENDAR
VERSION:2.0
PRODID:-//ChamberMaster//Event Calendar 2.0//EN
METHOD:PUBLISH
X-PUBLISHED-TTL:P3D
REFRESH-INTERVAL:P3D
CALSCALE:GREGORIAN
BEGIN:VEVENT
DTSTART:20150618T133000Z
DTEND:20150618T143000Z
X-MICROSOFT-CDO-ALLDAYEVENT:FALSE
SUMMARY:Greater Shelby Chamber - CoffeeNet at Davis Drug
DESCRIPTION:Join the Chamber for "CoffeeNet" at Davis Drug in Columbiana\n\n\n\nBe sure to mark your calendar for Thursday\, June 18 and join us at Davis Drug\, 111 South Main Street in Columbiana from 8:30AM until 9:30AM for CoffeeNet.  The morning meeting\, sponsored by Business Telephones\, Inc.\,  is designed for members to enjoy networking\, coffee and light refreshments -- all before heading to the office.\n\n\n\nCoffeeNet events are a great way to make new business contacts so bring plenty of business cards.  There is no cost to attend however reservations are requested by Tuesday\, June 16 to assist in preparation.\n\n\n\nPlease contact the Chamber by phone at 663-4542 or use online registration.
X-ALT-DESC;FMTTYPE=text/html:<strong>Join the Chamber for &quot\;CoffeeNet&quot\; at Davis Drug in Columbiana</strong><br />\n<br />\nBe sure to mark your calendar for Thursday\, June 18 and join us at Davis Drug\, 111 South Main Street in Columbiana from 8:30AM until 9:30AM for CoffeeNet.&nbsp\; The morning meeting\, sponsored by Business Telephones\, Inc.\,&nbsp\; is designed for members to enjoy networking\, coffee and light refreshments -- all before heading to the office.<br />\n<br />\nCoffeeNet events are a great way to make new business contacts so bring plenty of business cards.&nbsp\; There is no cost to attend however reservations are requested by Tuesday\, June 16 to assist in preparation.<br />\n<br />\nPlease contact the Chamber by phone at 663-4542 or use online registration.
LOCATION:Davis Drug 111 South Main Street Columbiana\, AL 35051 (205) 669-6713
UID:e.145.7667
SEQUENCE:3
DTSTAMP:20260422T230605Z
URL:https://business.shelbychamber.org/events/details/greater-shelby-chamber-coffeenet-at-davis-drug-06-18-2015-7667
END:VEVENT

END:VCALENDAR
