BEGIN:VCALENDAR
VERSION:2.0
PRODID:-//ChamberMaster//Event Calendar 2.0//EN
METHOD:PUBLISH
X-PUBLISHED-TTL:P3D
REFRESH-INTERVAL:P3D
CALSCALE:GREGORIAN
BEGIN:VEVENT
DTSTART:20150714T133000Z
DTEND:20150714T143000Z
X-MICROSOFT-CDO-ALLDAYEVENT:FALSE
SUMMARY:Greater Shelby Chamber - CoffeeNet at Favorite Laundry
DESCRIPTION:Join the Chamber for "CoffeeNet" at Favorite Laundry in Mt. Laurel\n\n\n\nBe sure to mark your calendar for Tuesday\, July 14 and join us at Favorite Laundry\, 100 Croft Street\, Mt. Laurel from 8:30AM until 9:30AM for CoffeeNet.  The morning meeting\, sponsored by Business Telephones\, Inc.\,  is designed for members to enjoy networking\, coffee and light refreshments -- all before heading to the office.\n\n\n\nCoffeeNet events are a great way to make new business contacts so bring plenty of business cards.  There is no cost to attend however reservations are requested by Monday\, July 13 to assist in preparation.\n\n\n\nPlease contact the Chamber by phone at 663-4542 or use online registration.
X-ALT-DESC;FMTTYPE=text/html:<strong>Join the Chamber for &quot\;CoffeeNet&quot\; at Favorite Laundry in Mt. Laurel</strong><br />\n<br />\nBe sure to mark your calendar for Tuesday\, July 14 and join us at Favorite Laundry\, 100 Croft Street\, Mt. Laurel from 8:30AM until 9:30AM for CoffeeNet.&nbsp\; The morning meeting\, sponsored by Business Telephones\, Inc.\,&nbsp\; is designed for members to enjoy networking\, coffee and light refreshments -- all before heading to the office.<br />\n<br />\nCoffeeNet events are a great way to make new business contacts so bring plenty of business cards.&nbsp\; There is no cost to attend however reservations are requested by Monday\, July 13 to assist in preparation.<br />\n<br />\nPlease contact the Chamber by phone at 663-4542 or use online registration.
LOCATION:Favorite Laundry Retail | Consignment 100 Croft Street Birmingham\, AL 35242 (205) 533-7861(205) 533-7861
UID:e.145.7714
SEQUENCE:3
DTSTAMP:20260422T200031Z
URL:https://business.shelbychamber.org/events/details/greater-shelby-chamber-coffeenet-at-favorite-laundry-07-14-2015-7714
END:VEVENT

END:VCALENDAR
