BEGIN:VCALENDAR
VERSION:2.0
PRODID:-//ChamberMaster//Event Calendar 2.0//EN
METHOD:PUBLISH
X-PUBLISHED-TTL:P3D
REFRESH-INTERVAL:P3D
CALSCALE:GREGORIAN
BEGIN:VEVENT
DTSTART:20141014T133000Z
DTEND:20141014T143000Z
X-MICROSOFT-CDO-ALLDAYEVENT:FALSE
SUMMARY:Greater Shelby Chamber - CoffeeNet at Ground Up Coffee & Smoothies
DESCRIPTION:Greater Shelby Chamber CoffeeNet at Ground Up Coffee & Smoothies\n\n\n\nThe Greater Shelby County Chamber of Commerce is holding a CoffeeNet meeting at our host member business\, Ground Up Coffee and Smoothies located inside Snider's Pharmacy in Chelsea.\n\n\n\nCoffeeNet is designed to give members an opportunity for morning networking\, light refreshments and the host business to address attendees of current offerings.\n\n\n\nJoin us on October 14 from 8:30AM until 9:30AM.  Bring plenty of business cards!
X-ALT-DESC;FMTTYPE=text/html:<span class="cm_editor_fix"><strong>Greater Shelby Chamber CoffeeNet at Ground Up Coffee &amp\; Smoothies</strong><br />\n<br />\nThe Greater Shelby County Chamber of Commerce is holding a CoffeeNet meeting at our host member business\, Ground Up Coffee and Smoothies located inside Snider&#39\;s Pharmacy in Chelsea.<br />\n<br />\nCoffeeNet is designed to give members an opportunity for morning networking\, light refreshments and the host business to address attendees of current offerings.<br />\n<br />\nJoin us on October 14 from 8:30AM until 9:30AM.&nbsp\; <em>Bring plenty of business cards!</em></span>
LOCATION:Ground Up Coffee & Smoothies 15582 Highway 280 Chelsea\, AL 35043 (205) 678-3899
UID:e.145.6245
SEQUENCE:3
DTSTAMP:20260423T091816Z
URL:https://business.shelbychamber.org/events/details/greater-shelby-chamber-coffeenet-at-ground-up-coffee-smoothies-10-14-2014-6245
END:VEVENT

END:VCALENDAR
