BEGIN:VCALENDAR
VERSION:2.0
PRODID:-//ChamberMaster//Event Calendar 2.0//EN
METHOD:PUBLISH
X-PUBLISHED-TTL:P3D
REFRESH-INTERVAL:P3D
CALSCALE:GREGORIAN
BEGIN:VEVENT
DTSTART:20150219T143000Z
DTEND:20150219T153000Z
X-MICROSOFT-CDO-ALLDAYEVENT:FALSE
SUMMARY:Greater Shelby Chamber - CoffeeNet at Ground Up Coffee & Smoothies inside Snider's Pharmacy
DESCRIPTION:Greater Shelby Chamber CoffeeNet at Ground Up Coffee & Smoothies located inside Snider's Pharmacy\n\n\n\nThe Greater Shelby County Chamber of Commerce is holding a CoffeeNet meeting at our host member business\, Ground Up Coffee and Smoothies located inside Snider's Pharmacy in Chelsea.\n\n\n\nCoffeeNet is designed to give members an opportunity for morning networking\, light refreshments and the host business to address attendees of current offerings.\n\n\n\nJoin us on Thursday\, February 19 from 8:30AM until 9:30AM. There is no cost to attend but please make reservations by Tuesday\, February 17 to assist in preparation.\n\n\n\nBring plenty of business cards!
X-ALT-DESC;FMTTYPE=text/html:<span class="cm_editor_fix"><strong>Greater Shelby Chamber CoffeeNet at Ground Up Coffee &amp\; Smoothies located inside Snider&#39\;s Pharmacy</strong><br />\n<br />\nThe Greater Shelby County Chamber of Commerce is holding a CoffeeNet meeting at our host member business\, Ground Up Coffee and Smoothies located inside Snider&#39\;s Pharmacy in Chelsea.<br />\n<br />\nCoffeeNet is designed to give members an opportunity for morning networking\, light refreshments and the host business to address attendees of current offerings.<br />\n<br />\nJoin us on Thursday\, February 19 from 8:30AM until 9:30AM. There is no cost to attend but please make reservations by Tuesday\, February 17 to assist in preparation.<br />\n<br />\n<em>Bring plenty of business cards!</em></span>
LOCATION:Ground Up Coffee & Smoothies 15582 Highway 280 Chelsea\, AL 35043 (205) 678-3899
UID:e.145.7195
SEQUENCE:3
DTSTAMP:20260423T050753Z
URL:https://business.shelbychamber.org/events/details/greater-shelby-chamber-coffeenet-at-ground-up-coffee-smoothies-inside-snider-s-pharmacy-02-19-2015-7195
END:VEVENT

END:VCALENDAR
