BEGIN:VCALENDAR
VERSION:2.0
PRODID:-//ChamberMaster//Event Calendar 2.0//EN
METHOD:PUBLISH
X-PUBLISHED-TTL:P3D
REFRESH-INTERVAL:P3D
CALSCALE:GREGORIAN
BEGIN:VEVENT
DTSTART:20160811T133000Z
DTEND:20160811T143000Z
X-MICROSOFT-CDO-ALLDAYEVENT:FALSE
SUMMARY:Greater Shelby Chamber - CoffeeNet at Ground Up Coffee & Smoothies located inside Snider's Pharmacy
DESCRIPTION:Join the Greater Shelby Chamber for "CoffeeNet" at Ground Up Coffee & Smoothies located inside Snider's Pharmacy in Chelsea\n\n\n\nBe sure to mark your calendar for Thursday\, August 11 and join us for "CoffeeNet" at Ground Up Coffee & Smoothies located inside Snider's Pharmacy\,15582 Highway 280\, Chelsea from 8:30AM until 9:30AM! The morning meeting is designed for investors to enjoy networking\, coffee\, and light refreshments -- all before heading to the office.\n\n \n\nCoffeeNet events\, sponsored by Cahaba Valley Computer Services\, Inc.\, are a great way to make new business contacts so bring plenty of business cards. There is no cost to attend however reservations are requested by Monday\, August 8 to assist in preparation.\n\n \n\nPlease contact the Chamber by phone at 663-4542 or register online.
X-ALT-DESC;FMTTYPE=text/html:<strong>Join the Greater Shelby Chamber for &quot\;CoffeeNet&quot\; at Ground Up Coffee &amp\; Smoothies located inside Snider&#39\;s Pharmacy in Chelsea</strong><br />\n<br />\nBe sure to mark your calendar for Thursday\, August 11 and join us for &quot\;CoffeeNet&quot\; at Ground Up Coffee &amp\; Smoothies located inside Snider&#39\;s Pharmacy\,15582 Highway 280\, Chelsea from 8:30AM until 9:30AM! The morning meeting is designed for investors to enjoy networking\, coffee\, and light refreshments -- all before heading to the office.<br />\n&nbsp\;<br />\nCoffeeNet events\, sponsored by <a href="http://www.cvcsllc.com/">Cahaba Valley Computer Services\, Inc</a>.\, are a great way to make new business contacts so bring plenty of business cards. There is no cost to attend however reservations are requested by Monday\, August 8 to assist in preparation.<br />\n&nbsp\;<br />\nPlease contact the Chamber by phone at 663-4542 or register online.
LOCATION:Ground Up Coffee & Smoothies located inside Snider's Pharmacy 15582 Highway 280 Chelsea\, AL 35043
UID:e.145.9648
SEQUENCE:3
DTSTAMP:20260422T012336Z
URL:https://business.shelbychamber.org/events/details/greater-shelby-chamber-coffeenet-at-ground-up-coffee-smoothies-located-inside-snider-s-pharmacy-08-11-2016-9648
END:VEVENT

END:VCALENDAR
