BEGIN:VCALENDAR
VERSION:2.0
PRODID:-//ChamberMaster//Event Calendar 2.0//EN
METHOD:PUBLISH
X-PUBLISHED-TTL:P3D
REFRESH-INTERVAL:P3D
CALSCALE:GREGORIAN
BEGIN:VEVENT
DTSTART:20160322T133000Z
DTEND:20160322T143000Z
X-MICROSOFT-CDO-ALLDAYEVENT:FALSE
SUMMARY:Greater Shelby Chamber - CoffeeNet at iBERIABANK Pelham
DESCRIPTION:Join the Chamber for "CoffeeNet" at iBERIABANK in Pelham\n\n\n\nBe sure to mark your calendar for Tuesday\, March 22 and join us at iBERIABANK\,2695 Pelham Parkway\, Pelham from 8:30AM until 9:30AM for CoffeeNet!  The morning meeting is designed for members to enjoy networking\, coffee\, and light refreshments -- all before heading to the office.\n\n\n\nCoffeeNet events\, presented in 2016 by Cahaba Valley Computer Services\, LLC.\, are a great way to make new business contacts so bring plenty of business cards. There is no cost to attend however reservations are requested by Monday\, March 21 to assist in preparation.\n\n\n\nPlease contact the Chamber by phone at 663-4542 or use online registration.
X-ALT-DESC;FMTTYPE=text/html:<br />\n<strong>Join the Chamber for &quot\;CoffeeNet&quot\; at iBERIABANK in Pelham</strong><br />\n<br />\nBe sure to mark your calendar for Tuesday\, March 22 and join us at iBERIABANK\,2695 Pelham Parkway\, Pelham from 8:30AM until 9:30AM for CoffeeNet!&nbsp\; The morning meeting is designed for members to enjoy networking\, coffee\, and light refreshments -- all before heading to the office.<br />\n<br />\nCoffeeNet events\, presented in 2016 by Cahaba Valley Computer Services\, LLC.\, are a great way to make new business contacts so bring plenty of business cards. There is no cost to attend however reservations are requested by Monday\, March 21 to assist in preparation.<br />\n<br />\nPlease contact the Chamber by phone at 663-4542 or use online registration.
LOCATION:iBERIABANK 2695 Pelham Parkway Pelham\, AL 35124
UID:e.145.8251
SEQUENCE:3
DTSTAMP:20260422T075314Z
URL:https://business.shelbychamber.org/events/details/greater-shelby-chamber-coffeenet-at-iberiabank-pelham-03-22-2016-8251
END:VEVENT

END:VCALENDAR
