BEGIN:VCALENDAR
VERSION:2.0
PRODID:-//ChamberMaster//Event Calendar 2.0//EN
METHOD:PUBLISH
X-PUBLISHED-TTL:P3D
REFRESH-INTERVAL:P3D
CALSCALE:GREGORIAN
BEGIN:VEVENT
DTSTART:20140814T133000Z
DTEND:20140814T143000Z
X-MICROSOFT-CDO-ALLDAYEVENT:FALSE
SUMMARY:Greater Shelby Chamber - CoffeeNet at Retreat at Greystone
DESCRIPTION:Greater Shelby Chamber CoffeeNet at Retreat at Greystone\n\n\n\nThe Greater Shelby County Chamber of Commerce is holding a CoffeeNet meeting at our host member business\, Retreat at Greystone.\n\n\n\nCoffeeNet is designed to give members an opportunity for morning networking\, light refreshments and the host business to address attendees of current offerings.\n\n\n\nJoin us at Retreat at Greystone on August 14 from 8:30AM until 9:30AM.  Bring plenty of business cards!
X-ALT-DESC;FMTTYPE=text/html:<span class="cm_editor_fix"><strong>Greater Shelby Chamber CoffeeNet at Retreat at Greystone</strong><br />\n<br />\nThe Greater Shelby County Chamber of Commerce is holding a CoffeeNet meeting at our host member business\, Retreat at Greystone.<br />\n<br />\nCoffeeNet is designed to give members an opportunity for morning networking\, light refreshments and the host business to address attendees of current offerings.<br />\n<br />\nJoin us at Retreat at Greystone on August 14 from 8:30AM until 9:30AM.&nbsp\; <em>Bring plenty of business cards!</em></span>
LOCATION:Retreat at Greystone 201 Retreat Drive Birmingham\, AL 35242 (205) 983-7833 Driving Directions: Traveling East on Highway 280\, turn left onto Highway 119/Cahaba Valley Road\, Retreat at Greystone will be approx. 1 mile on the left.
UID:e.145.5792
SEQUENCE:3
DTSTAMP:20260423T120900Z
URL:https://business.shelbychamber.org/events/details/greater-shelby-chamber-coffeenet-at-retreat-at-greystone-08-14-2014-5792
END:VEVENT

END:VCALENDAR
