BEGIN:VCALENDAR
VERSION:2.0
PRODID:-//ChamberMaster//Event Calendar 2.0//EN
METHOD:PUBLISH
X-PUBLISHED-TTL:P3D
REFRESH-INTERVAL:P3D
CALSCALE:GREGORIAN
BEGIN:VEVENT
DTSTART:20150107T143000Z
DTEND:20150107T153000Z
X-MICROSOFT-CDO-ALLDAYEVENT:FALSE
SUMMARY:Greater Shelby Chamber - CoffeeNet at Sam's Club Hoover
DESCRIPTION:Greater Shelby Chamber CoffeeNet at Sam's Club Hoover\n\n\n\nJoin us for a CoffeeNet meeting at our host member business\, Sam's Club Hoover.\n\n\n\nCoffeeNet is designed to give members an opportunity for morning networking\, light refreshments and the host business to address attendees of current offerings.\n\n\n\nJoin us Wednesday\, January 7 from 8:30AM until 9:30AM.  Bring plenty of business cards!\n\n\n\nThank you to Business Telephones\, Inc. the 2015 CoffeeNet sponsor.
X-ALT-DESC;FMTTYPE=text/html:<span class="cm_editor_fix"><strong>Greater Shelby Chamber CoffeeNet at Sam&#39\;s Club Hoover</strong><br />\n<br />\nJoin us for a CoffeeNet meeting at our host member business\, Sam&#39\;s Club Hoover.<br />\n<br />\nCoffeeNet is designed to give members an opportunity for morning networking\, light refreshments and the host business to address attendees of current offerings.<br />\n<br />\nJoin us Wednesday\, January 7 from 8:30AM until 9:30AM.&nbsp\; <em>Bring plenty of business cards!</em><br />\n<br />\nThank you to <a href="http://bticonnect.com/">Business Telephones\, Inc.</a> the 2015 CoffeeNet sponsor.</span>
LOCATION:Sam's Club 3053 Highway 150 Birmingham\, AL 35244 (205) 982-0596
UID:e.145.6628
SEQUENCE:3
DTSTAMP:20260423T050753Z
URL:https://business.shelbychamber.org/events/details/greater-shelby-chamber-coffeenet-at-sam-s-club-hoover-01-07-2015-6628
END:VEVENT

END:VCALENDAR
