BEGIN:VCALENDAR
VERSION:2.0
PRODID:-//ChamberMaster//Event Calendar 2.0//EN
METHOD:PUBLISH
X-PUBLISHED-TTL:P3D
REFRESH-INTERVAL:P3D
CALSCALE:GREGORIAN
BEGIN:VEVENT
DTSTART:20161013T133000Z
DTEND:20161013T143000Z
X-MICROSOFT-CDO-ALLDAYEVENT:FALSE
SUMMARY:Greater Shelby Chamber - CoffeeNet at Shelby Baptist Medical Center
DESCRIPTION:Join the Greater Shelby Chamber for "CoffeeNet" at Shelby Baptist Medical Center\, Alabaster\n\n\n\nBe sure to mark your calendar for Thursday\, October 12 and join us for "CoffeeNet" at Shelby Baptist Medical Center (1000 1st Street North\, Alabaster\, AL 35007).  Click on this link for a map of the Medical Center's campus.\n\n\n\nThe meeting will be held in Conference Room located on the first floor of the Physicians Center on the Medical Center's Campus. (The Physicians Center is the building to the far left of the Medical Center's campus. Parking is available in the parking deck attached to the front of the Physicians Center\, or in the open air lot up to the left and behind the Physicians Center.)\n\n\n\nThe morning meeting is designed for investors to enjoy networking\, coffee\, and light refreshments -- all before heading to the office.\n\n \n\nCoffeeNet events\, sponsored by Cahaba Valley Computer Services\, Inc.\, are a great way to make new business contacts so bring plenty of business cards. There is no cost to attend however reservations are requested by Tuesday\, October 11 to assist in preparation.\n\n \n\nPlease contact the Chamber by phone at 663-4542 or register online.
X-ALT-DESC;FMTTYPE=text/html:<strong>Join the Greater Shelby Chamber for &quot\;CoffeeNet&quot\; at Shelby Baptist Medical Center\, Alabaster</strong><br />\n<br />\nBe sure to mark your calendar for Thursday\, October 12 and join us for &quot\;CoffeeNet&quot\; at Shelby Baptist Medical Center (1000 1st Street North\, Alabaster\, AL 35007). &nbsp\;<a href="http://baptisthealthalabama.org/Portals/27/workfiles/Shelby%20Baptist%20Medical%20Center_DetailedMap.pdf">Click on this link for a map of the Medical Center&rsquo\;s campus</a>.<br />\n<br />\nThe meeting will be held in Conference Room located on the first floor of the Physicians Center on the Medical Center&rsquo\;s Campus. (The Physicians Center is the building to the far left of the Medical Center&rsquo\;s campus. Parking is available in the parking deck attached to the front of the Physicians Center\, or in the open air lot up to the left and behind the Physicians Center.)<br />\n<br />\nThe morning meeting is designed for investors to enjoy networking\, coffee\, and light refreshments -- all before heading to the office.<br />\n&nbsp\;<br />\nCoffeeNet events\, sponsored by <a href="http://www.cvcsllc.com/">Cahaba Valley Computer Services\, Inc</a>.\, are a great way to make new business contacts so bring plenty of business cards. There is no cost to attend however reservations are requested by Tuesday\, October 11 to assist in preparation.<br />\n&nbsp\;<br />\nPlease contact the Chamber by phone at 663-4542 or register online.
LOCATION:Shelby Baptist Medical Center 1000 1st Street North Alabaster\, AL 35007 Click to view layout of campus: Physicans Building Conference Room
UID:e.145.9754
SEQUENCE:3
DTSTAMP:20260421T165344Z
URL:https://business.shelbychamber.org/events/details/greater-shelby-chamber-coffeenet-at-shelby-baptist-medical-center-9754
END:VEVENT

END:VCALENDAR
