BEGIN:VCALENDAR
VERSION:2.0
PRODID:-//ChamberMaster//Event Calendar 2.0//EN
METHOD:PUBLISH
X-PUBLISHED-TTL:P3D
REFRESH-INTERVAL:P3D
CALSCALE:GREGORIAN
BEGIN:VEVENT
DTSTART:20150813T133000Z
DTEND:20150813T143000Z
X-MICROSOFT-CDO-ALLDAYEVENT:FALSE
SUMMARY:Greater Shelby Chamber - CoffeeNet at The Egg & I
DESCRIPTION:Join the Chamber for "CoffeeNet" at The Egg & I\n\n\n\nBe sure to mark your calendar for Thursday\, August 13 and join us The Egg & I\, 5479 Highway 280\, Ste. 128\, Birmingham from 8:30AM until 9:30AM for CoffeeNet!  The morning meeting is designed for members to enjoy networking\, coffee\, and light refreshments -- all before heading to the office.\n\n\n\nCoffeeNet events\, sponsored by Business Telephones\, Inc.\, are a great way to make new business contacts so bring plenty of business cards. There is no cost to attend however reservations are requested by Wednesday\, August 12 to assist in preparation.\n\n\n\nPlease contact the Chamber by phone at 663-4542 or use Registration Online.
X-ALT-DESC;FMTTYPE=text/html:<strong>Join the Chamber for &quot\;CoffeeNet&quot\; at The Egg &amp\; I</strong><br />\n<br />\nBe sure to mark your calendar for Thursday\, August 13 and join us The Egg &amp\; I\, 5479 Highway 280\, Ste. 128\, Birmingham from 8:30AM until 9:30AM for CoffeeNet!&nbsp\; The morning meeting is designed for members to enjoy networking\, coffee\, and light refreshments -- all before heading to the office.<br />\n<br />\nCoffeeNet events\, sponsored by Business Telephones\, Inc.\, are a great way to make new business contacts so bring plenty of business cards. There is no cost to attend however reservations are requested by Wednesday\, August 12 to assist in preparation.<br />\n<br />\nPlease contact the Chamber by phone at 663-4542 or use Registration Online.
LOCATION:The EGG & I 5479 Highway 280\, Ste. 128 Birmingham\, AL 35242 (205) 874-9607(205) 874-9607
UID:e.145.7760
SEQUENCE:3
DTSTAMP:20260422T195935Z
URL:https://business.shelbychamber.org/events/details/greater-shelby-chamber-coffeenet-at-the-egg-i-08-13-2015-7760
END:VEVENT

END:VCALENDAR
