BEGIN:VCALENDAR
VERSION:2.0
PRODID:-//ChamberMaster//Event Calendar 2.0//EN
METHOD:PUBLISH
X-PUBLISHED-TTL:P3D
REFRESH-INTERVAL:P3D
CALSCALE:GREGORIAN
BEGIN:VEVENT
DTSTART:20161117T143000Z
DTEND:20161117T153000Z
X-MICROSOFT-CDO-ALLDAYEVENT:FALSE
SUMMARY:Greater Shelby Chamber - CoffeeNet at The Grand Reserve Pelham
DESCRIPTION:Join the Greater Shelby for "CoffeeNet" at Grand Reserve at Pelham\n\n \n\nBe sure to mark your calendar for Thursday\, November 17 and join us at the Grand Reserve at Pelham\, 10 Grand Reserve Drive\, Pelham from 8:30AM until 9:30AM for CoffeeNet!  The morning meeting is designed for members to enjoy networking\, coffee\, and light refreshments -- all before heading to the office.\n\n\n\nThe Grand Reserve at Pelham is a community offering a great residential environment. The friendly staff is always available to show you all the great amenities they have to offer! Conveniently located in Pelham\, you'll enjoy a quiet\, relaxing community with easy access to all of the features the city has to offer.\n\n \n\nCoffeeNet events\, sponsored by Cahaba Valley Computer Services\, Inc.\, are a great way to make new business contacts so bring plenty of business cards. There is no cost to attend however reservations are requested by Monday\, November 14 to assist in preparation.\n\n \n\nPlease contact the Chamber by phone at 663-4542 or register online.
X-ALT-DESC;FMTTYPE=text/html:<br />\n<strong>Join the Greater Shelby for &quot\;CoffeeNet&quot\; at Grand Reserve at Pelham</strong><br />\n&nbsp\;<br />\nBe sure to mark your calendar for Thursday\, November 17 and join us at the Grand Reserve at Pelham\, 10 Grand Reserve Drive\, Pelham from 8:30AM until 9:30AM for <a href="http://shelbychamber.org/coffeenet/">CoffeeNet</a>! &nbsp\;The morning meeting is designed for members to enjoy networking\, coffee\, and light refreshments -- all before heading to the office.<br />\n<br />\nThe <a href="http://www.grandreservepelham.com/">Grand Reserve at Pelham</a> is a community offering a great residential environment. The friendly staff is always available to show you all the great amenities they have to offer! Conveniently located in Pelham\, you&#39\;ll enjoy a quiet\, relaxing community with easy access to all of the features the city has to offer.<br />\n&nbsp\;<br />\n<a href="http://shelbychamber.org/coffeenet/">CoffeeNet</a> events\, sponsored by <a href="http://www.cvcsllc.com">Cahaba Valley Computer Services\, Inc.</a>\, are a great way to make new business contacts so bring plenty of business cards. There is no cost to attend however reservations are requested by Monday\, November 14 to assist in preparation.<br />\n&nbsp\;<br />\nPlease contact the Chamber by phone at 663-4542 or register online.
LOCATION:Grand Reserve at Pelham 10 Grand Reserve Drive Pelham 35124
UID:e.145.9796
SEQUENCE:3
DTSTAMP:20260421T151619Z
URL:https://business.shelbychamber.org/events/details/greater-shelby-chamber-coffeenet-at-the-grand-reserve-pelham-9796
END:VEVENT

END:VCALENDAR
