BEGIN:VCALENDAR
VERSION:2.0
PRODID:-//ChamberMaster//Event Calendar 2.0//EN
METHOD:PUBLISH
X-PUBLISHED-TTL:P3D
REFRESH-INTERVAL:P3D
CALSCALE:GREGORIAN
BEGIN:VEVENT
DTSTART:20150512T133000Z
DTEND:20150512T143000Z
X-MICROSOFT-CDO-ALLDAYEVENT:FALSE
SUMMARY:Greater Shelby Chamber - Education Work Group
DESCRIPTION:Greater Shelby Chamber Education Work Group\n\n\n\nPromote importance of career development and the promotion of a qualified workforce.  Organize "Keeping It Real" program\, "Career Awareness Fair" and "Student & Teacher of the Year Awards" recognition.\n\n\n\nMeets 2nd Tuesday of each month @ 8:30AM @ Shelby County Instructional Services Center.\n\n\n\nIf you are interested in serving on the Education Work Group please contact Keyla Handley\, Director\, Workforce & Community Development at 663-4542\, ext. 106.
X-ALT-DESC;FMTTYPE=text/html:<strong>Greater Shelby Chamber Education Work Group</strong><br />\n<br />\nPromote importance of career development and the promotion of a qualified workforce.&nbsp\; Organize &ldquo\;Keeping It Real&rdquo\; program\, &ldquo\;Career Awareness Fair&rdquo\; and &ldquo\;Student &amp\; Teacher of the Year Awards&rdquo\; recognition.<br />\n<br />\nMeets 2nd Tuesday of each month @ 8:30AM @ Shelby County Instructional Services Center.<br />\n<br />\nIf you are interested in serving on the Education Work Group please contact Keyla Handley\, Director\, Workforce &amp\; Community Development at 663-4542\, ext. 106.<br />\n&nbsp\;
LOCATION:Shelby County Instructional Services Center 601 First Street South Alabaster\, AL 35007 (205) 682-5910
UID:e.145.7653
SEQUENCE:3
DTSTAMP:20260422T230027Z
URL:https://business.shelbychamber.org/events/details/greater-shelby-chamber-education-work-group-05-12-2015-7653
END:VEVENT

END:VCALENDAR
