BEGIN:VCALENDAR
VERSION:2.0
PRODID:-//ChamberMaster//Event Calendar 2.0//EN
METHOD:PUBLISH
X-PUBLISHED-TTL:P3D
REFRESH-INTERVAL:P3D
CALSCALE:GREGORIAN
BEGIN:VEVENT
DTSTART:20161213T143000Z
DTEND:20161213T153000Z
X-MICROSOFT-CDO-ALLDAYEVENT:FALSE
SUMMARY:Greater Shelby Chamber - Education Work Group
DESCRIPTION:Greater Shelby Chamber - Education Work Group\n\n\n\nPromote importance of career development and the promotion of a qualified workforce.  Organize "Keeping It Real" program\, "Career Awareness Fair" and "Student & Teacher of the Year Awards" recognition.\n\n\n\nIf you are interested in serving on the Education Work Group please contact Kelly Anderson\, Manager\, Workforce Development at 663-4542\, ext. 104.
X-ALT-DESC;FMTTYPE=text/html:<br />\n<strong>Greater Shelby Chamber - Education Work Group</strong><br />\n<br />\nPromote importance of career development and the promotion of a qualified workforce.&nbsp\; Organize &ldquo\;Keeping It Real&rdquo\; program\, &ldquo\;Career Awareness Fair&rdquo\; and &ldquo\;Student &amp\; Teacher of the Year Awards&rdquo\; recognition.<br />\n<br />\nIf you are interested in serving on the Education Work Group please contact Kelly Anderson\, Manager\, Workforce Development at 663-4542\, ext. 104.
LOCATION:Determined by Work Group
UID:e.145.8080
SEQUENCE:3
DTSTAMP:20260421T132136Z
URL:https://business.shelbychamber.org/events/details/greater-shelby-chamber-education-work-group-12-13-2016-8080
END:VEVENT

END:VCALENDAR
