BEGIN:VCALENDAR
VERSION:2.0
PRODID:-//ChamberMaster//Event Calendar 2.0//EN
METHOD:PUBLISH
X-PUBLISHED-TTL:P3D
REFRESH-INTERVAL:P3D
CALSCALE:GREGORIAN
BEGIN:VEVENT
DTSTART:20150616T130000Z
DTEND:20150616T150000Z
X-MICROSOFT-CDO-ALLDAYEVENT:FALSE
SUMMARY:Greater Shelby Chamber - Entrepreneur Roundtable I
DESCRIPTION:Greater Shelby Chamber - Entrepreneur Roundtable I\n\n\n\nThe Entrepreneur Roundtable program is designed to provide hands-on assistance for small business owners.  The Chamber's Entrepreneur Roundtable I was established with business owners who meet each month.*\n\n\n\nThe Chamber's Entrepreneur Roundtable program is part problem-solving\, part information-gathering and contacts building. Participating business owners from non-competing companies meet for a confidential\, peer-to-peer forum each month to gain valuable insights into others' successes and achievements\, and learn how to avoid the pitfalls of their mistakes. The Roundtable program is exclusive for the single individual responsible for the direction of the company and with the authority to make final decisions.\n\n\n\nFor additional information on the Chamber's Entrepreneur Roundtable program   or an application to join Roundtable I   please contact Brooke Story by phone at 663-4542 ext. 105 or via e-mail at brooke@shelbychamber.org.  Click here to open a PDF of the Roundtable Charter.\n\n\n\n*Time and location of meeting may change per the consensus of the group.
X-ALT-DESC;FMTTYPE=text/html:<span class="cm_editor_fix"><strong>Greater Shelby Chamber - Entrepreneur Roundtable I</strong><br />\n<br />\nThe Entrepreneur Roundtable program is designed to provide hands-on assistance for small business owners.&nbsp\; The Chamber&rsquo\;s Entrepreneur Roundtable I was established with business owners who meet each month.*<br />\n<br />\nThe Chamber&rsquo\;s Entrepreneur Roundtable program is part problem-solving\, part information-gathering and contacts building. Participating business owners from non-competing companies meet for a confidential\, peer-to-peer forum each month to gain valuable insights into others&#39\; successes and achievements\, and learn how to avoid the pitfalls of their mistakes. The Roundtable program is exclusive for the single individual responsible for the direction of the company and with the authority to make final decisions.<br />\n<br />\nFor additional information on the Chamber&rsquo\;s Entrepreneur Roundtable program &ndash\; or an application to join Roundtable I &ndash\; please contact Brooke Story by phone at 663-4542 ext. 105 or via e-mail at <a href="mailto:brooke@shelbychamber.org?subject=Interested%20in%20Entrepreneur%20Roundtable%20Info%2F%20Application">brooke@shelbychamber.org</a>.&nbsp\; Click here to open a PDF of the <a href="http://cloud.chambermaster.com/userfiles/UserFiles/chambers/145/File/Ent_Roundtable/GSCCRoundtableCharter.pdf">Roundtable Charter</a>.<br />\n<br />\n*Time and location of meeting may change per the consensus of the group.</span>
LOCATION:Contact Brooke Story for information. 663-4542\, ext. 105
UID:e.145.7703
SEQUENCE:3
DTSTAMP:20260422T230332Z
URL:https://business.shelbychamber.org/events/details/greater-shelby-chamber-entrepreneur-roundtable-i-06-16-2015-7703
END:VEVENT

END:VCALENDAR
